BEGIN:VCALENDAR
VERSION:2.0
PRODID:-//Troop 2 Staten Island - ECPv6.15.20//NONSGML v1.0//EN
CALSCALE:GREGORIAN
METHOD:PUBLISH
X-WR-CALNAME:Troop 2 Staten Island
X-ORIGINAL-URL:https://troop2statenisland.com
X-WR-CALDESC:Events for Troop 2 Staten Island
REFRESH-INTERVAL;VALUE=DURATION:PT1H
X-Robots-Tag:noindex
X-PUBLISHED-TTL:PT1H
BEGIN:VTIMEZONE
TZID:America/New_York
BEGIN:DAYLIGHT
TZOFFSETFROM:-0500
TZOFFSETTO:-0400
TZNAME:EDT
DTSTART:20250309T070000
END:DAYLIGHT
BEGIN:STANDARD
TZOFFSETFROM:-0400
TZOFFSETTO:-0500
TZNAME:EST
DTSTART:20251102T060000
END:STANDARD
BEGIN:DAYLIGHT
TZOFFSETFROM:-0500
TZOFFSETTO:-0400
TZNAME:EDT
DTSTART:20260308T070000
END:DAYLIGHT
BEGIN:STANDARD
TZOFFSETFROM:-0400
TZOFFSETTO:-0500
TZNAME:EST
DTSTART:20261101T060000
END:STANDARD
BEGIN:DAYLIGHT
TZOFFSETFROM:-0500
TZOFFSETTO:-0400
TZNAME:EDT
DTSTART:20270314T070000
END:DAYLIGHT
BEGIN:STANDARD
TZOFFSETFROM:-0400
TZOFFSETTO:-0500
TZNAME:EST
DTSTART:20271107T060000
END:STANDARD
END:VTIMEZONE
BEGIN:VEVENT
DTSTART;TZID=America/New_York:20260424T160000
DTEND;TZID=America/New_York:20260426T100000
DTSTAMP:20260423T110328
CREATED:20260326T160836Z
LAST-MODIFIED:20260326T160838Z
UID:1891-1777046400-1777197600@troop2statenisland.com
SUMMARY:Shooting Sports Weekend 🎯
DESCRIPTION:Troop 2 will be attending Shooting Sports Weekend. Scouts will participate in supervised activities focused on safety\, skill building\, and outdoor experience. Final details\, packing list\, and permissions will be shared prior to the trip. If there are any changes to attendance\, notify leadership as soon as possible.
URL:https://troop2statenisland.com/event/shooting-sports-weekend-%f0%9f%8e%af/
LOCATION:Ten Mile River Scout Camp\, 1481 Crystal Lake Rd\, Narrowsburg\, 12764
ORGANIZER;CN="Scoutmaster Joe Nerone":MAILTO:ukj518@gmail.com
END:VEVENT
BEGIN:VEVENT
DTSTART;TZID=America/New_York:20260428T193000
DTEND;TZID=America/New_York:20260428T210000
DTSTAMP:20260423T110328
CREATED:20250711T131340Z
LAST-MODIFIED:20250711T131340Z
UID:1198-1777404600-1777410000@troop2statenisland.com
SUMMARY:🧭 Troop 2 General Meeting
DESCRIPTION:📋Weekly scout meeting covering planning\, activities\, and troop updates.
URL:https://troop2statenisland.com/event/%f0%9f%a7%ad-troop-2-general-meeting-17-11/
LOCATION:Immanuel Union Church\, 693 Jewett Ave\, Staten Island\, New York\, 10314
ORGANIZER;CN="Scoutmaster Joe Nerone":MAILTO:ukj518@gmail.com
END:VEVENT
BEGIN:VEVENT
DTSTART;TZID=America/New_York:20260430T180000
DTEND;TZID=America/New_York:20260430T190000
DTSTAMP:20260423T110328
CREATED:20251001T161456Z
LAST-MODIFIED:20251001T161458Z
UID:1439-1777572000-1777575600@troop2statenisland.com
SUMMARY:🐾 Cub Scouts Field Trip (TBT) & Pack Meeting 🌳
DESCRIPTION:Pack 2 Cub Scouts outing with Pack Meeting. Details to follow.
URL:https://troop2statenisland.com/event/%f0%9f%90%be-cub-scouts-field-trip-tbt-pack-meeting-%f0%9f%8c%b3/
LOCATION:New York
ORGANIZER;CN="Brian Levinsky":MAILTO:pack2.GNYC@gmail.com
END:VEVENT
END:VCALENDAR