BEGIN:VCALENDAR
VERSION:2.0
PRODID:-//Troop 2 Staten Island - ECPv6.15.20//NONSGML v1.0//EN
CALSCALE:GREGORIAN
METHOD:PUBLISH
X-ORIGINAL-URL:https://troop2statenisland.com
X-WR-CALDESC:Events for Troop 2 Staten Island
REFRESH-INTERVAL;VALUE=DURATION:PT1H
X-Robots-Tag:noindex
X-PUBLISHED-TTL:PT1H
BEGIN:VTIMEZONE
TZID:America/New_York
BEGIN:DAYLIGHT
TZOFFSETFROM:-0500
TZOFFSETTO:-0400
TZNAME:EDT
DTSTART:20250309T070000
END:DAYLIGHT
BEGIN:STANDARD
TZOFFSETFROM:-0400
TZOFFSETTO:-0500
TZNAME:EST
DTSTART:20251102T060000
END:STANDARD
BEGIN:DAYLIGHT
TZOFFSETFROM:-0500
TZOFFSETTO:-0400
TZNAME:EDT
DTSTART:20260308T070000
END:DAYLIGHT
BEGIN:STANDARD
TZOFFSETFROM:-0400
TZOFFSETTO:-0500
TZNAME:EST
DTSTART:20261101T060000
END:STANDARD
BEGIN:DAYLIGHT
TZOFFSETFROM:-0500
TZOFFSETTO:-0400
TZNAME:EDT
DTSTART:20270314T070000
END:DAYLIGHT
BEGIN:STANDARD
TZOFFSETFROM:-0400
TZOFFSETTO:-0500
TZNAME:EST
DTSTART:20271107T060000
END:STANDARD
END:VTIMEZONE
BEGIN:VEVENT
DTSTART;TZID=America/New_York:20260106T193000
DTEND;TZID=America/New_York:20260106T210000
DTSTAMP:20260423T150320
CREATED:20250711T131340Z
LAST-MODIFIED:20250711T131340Z
UID:1182-1767727800-1767733200@troop2statenisland.com
SUMMARY:🧭 Troop 2 General Meeting
DESCRIPTION:📋Weekly scout meeting covering planning\, activities\, and troop updates.
URL:https://troop2statenisland.com/event/%f0%9f%a7%ad-troop-2-general-meeting-13/
LOCATION:Immanuel Union Church\, 693 Jewett Ave\, Staten Island\, New York\, 10314
ORGANIZER;CN="Scoutmaster Joe Nerone":MAILTO:ukj518@gmail.com
END:VEVENT
BEGIN:VEVENT
DTSTART;TZID=America/New_York:20260113T193000
DTEND;TZID=America/New_York:20260113T210000
DTSTAMP:20260423T150320
CREATED:20250711T131340Z
LAST-MODIFIED:20250711T131340Z
UID:1183-1768332600-1768338000@troop2statenisland.com
SUMMARY:🧭 Troop 2 General Meeting
DESCRIPTION:📋Weekly scout meeting covering planning\, activities\, and troop updates.
URL:https://troop2statenisland.com/event/%f0%9f%a7%ad-troop-2-general-meeting-14/
LOCATION:Immanuel Union Church\, 693 Jewett Ave\, Staten Island\, New York\, 10314
ORGANIZER;CN="Scoutmaster Joe Nerone":MAILTO:ukj518@gmail.com
END:VEVENT
BEGIN:VEVENT
DTSTART;TZID=America/New_York:20260115T180000
DTEND;TZID=America/New_York:20260115T190000
DTSTAMP:20260423T150320
CREATED:20251001T160627Z
LAST-MODIFIED:20251001T160629Z
UID:1429-1768500000-1768503600@troop2statenisland.com
SUMMARY:🐾 Cub Scouts Pinewood Derby Workshop 🛠️
DESCRIPTION:Cub Scouts build and prepare their Pinewood Derby cars at this workshop event.
URL:https://troop2statenisland.com/event/%f0%9f%90%be-cub-scouts-pinewood-derby-workshop-%f0%9f%9b%a0%ef%b8%8f/
LOCATION:Immanuel Union Church\, 693 Jewett Ave\, Staten Island\, New York\, 10314
ORGANIZER;CN="Brian Levinsky":MAILTO:pack2.GNYC@gmail.com
END:VEVENT
BEGIN:VEVENT
DTSTART;TZID=America/New_York:20260120T193000
DTEND;TZID=America/New_York:20260120T210000
DTSTAMP:20260423T150320
CREATED:20250711T131340Z
LAST-MODIFIED:20250711T131340Z
UID:1184-1768937400-1768942800@troop2statenisland.com
SUMMARY:🧭 Troop 2 General Meeting
DESCRIPTION:📋Weekly scout meeting covering planning\, activities\, and troop updates.
URL:https://troop2statenisland.com/event/%f0%9f%a7%ad-troop-2-general-meeting-15/
LOCATION:Immanuel Union Church\, 693 Jewett Ave\, Staten Island\, New York\, 10314
ORGANIZER;CN="Scoutmaster Joe Nerone":MAILTO:ukj518@gmail.com
END:VEVENT
BEGIN:VEVENT
DTSTART;TZID=America/New_York:20260124T100000
DTEND;TZID=America/New_York:20260124T120000
DTSTAMP:20260423T150320
CREATED:20251001T160803Z
LAST-MODIFIED:20251001T160805Z
UID:1431-1769248800-1769256000@troop2statenisland.com
SUMMARY:🐾 Cub Scouts Pinewood Derby 🏎️
DESCRIPTION:Race day! Cub Scouts compete in the annual Pinewood Derby. Friends and family welcome!
URL:https://troop2statenisland.com/event/%f0%9f%90%be-cub-scouts-pinewood-derby-%f0%9f%8f%8e%ef%b8%8f/
LOCATION:Immanuel Union Church\, 693 Jewett Ave\, Staten Island\, New York\, 10314
ORGANIZER;CN="Brian Levinsky":MAILTO:pack2.GNYC@gmail.com
END:VEVENT
BEGIN:VEVENT
DTSTART;TZID=America/New_York:20260127T193000
DTEND;TZID=America/New_York:20260127T210000
DTSTAMP:20260423T150320
CREATED:20250711T131340Z
LAST-MODIFIED:20250711T131340Z
UID:1185-1769542200-1769547600@troop2statenisland.com
SUMMARY:🧭 Troop 2 General Meeting
DESCRIPTION:📋Weekly scout meeting covering planning\, activities\, and troop updates.
URL:https://troop2statenisland.com/event/%f0%9f%a7%ad-troop-2-general-meeting-16/
LOCATION:Immanuel Union Church\, 693 Jewett Ave\, Staten Island\, New York\, 10314
ORGANIZER;CN="Scoutmaster Joe Nerone":MAILTO:ukj518@gmail.com
END:VEVENT
BEGIN:VEVENT
DTSTART;TZID=America/New_York:20260130T173000
DTEND;TZID=America/New_York:20260201T100000
DTSTAMP:20260423T150320
CREATED:20250711T170512Z
LAST-MODIFIED:20250711T170519Z
UID:1221-1769794200-1769940000@troop2statenisland.com
SUMMARY:❄️ Troop 2 Winter Weekend - Goose Pond Scout Reservation
DESCRIPTION:Bundle up for Troop 2’s annual Winter Weekend at Goose Pond Scout Reservation! Scouts will enjoy a weekend of outdoor adventure\, team-building\, cold-weather camping\, and scout skills in a scenic mountain setting. \n\n\n\n🏕️ Activities may include: winter hiking\, fire building\, shelter construction\, and indoor/outdoor patrol competitions (weather permitting). This is an excellent opportunity for scouts to build resilience and camaraderie. \n\n\n\n🧣 Scouts should pack for cold weather\, including thermal layers\, gloves\, hats\, sleeping gear rated for winter temperatures\, and waterproof boots. A full packing list will be provided in advance. \n\n\n\n🚗 Carpooling will be coordinated closer to the trip date.
URL:https://troop2statenisland.com/event/%e2%9d%84%ef%b8%8f-troop-2-winter-weekend-goose-pond-scout-reservation/
LOCATION:New York
ORGANIZER;CN="Scoutmaster Joe Nerone":MAILTO:ukj518@gmail.com
END:VEVENT
END:VCALENDAR