BEGIN:VCALENDAR
VERSION:2.0
PRODID:-//Troop 2 Staten Island - ECPv6.15.20//NONSGML v1.0//EN
CALSCALE:GREGORIAN
METHOD:PUBLISH
X-ORIGINAL-URL:https://troop2statenisland.com
X-WR-CALDESC:Events for Troop 2 Staten Island
REFRESH-INTERVAL;VALUE=DURATION:PT1H
X-Robots-Tag:noindex
X-PUBLISHED-TTL:PT1H
BEGIN:VTIMEZONE
TZID:America/New_York
BEGIN:DAYLIGHT
TZOFFSETFROM:-0500
TZOFFSETTO:-0400
TZNAME:EDT
DTSTART:20240310T070000
END:DAYLIGHT
BEGIN:STANDARD
TZOFFSETFROM:-0400
TZOFFSETTO:-0500
TZNAME:EST
DTSTART:20241103T060000
END:STANDARD
BEGIN:DAYLIGHT
TZOFFSETFROM:-0500
TZOFFSETTO:-0400
TZNAME:EDT
DTSTART:20250309T070000
END:DAYLIGHT
BEGIN:STANDARD
TZOFFSETFROM:-0400
TZOFFSETTO:-0500
TZNAME:EST
DTSTART:20251102T060000
END:STANDARD
BEGIN:DAYLIGHT
TZOFFSETFROM:-0500
TZOFFSETTO:-0400
TZNAME:EDT
DTSTART:20260308T070000
END:DAYLIGHT
BEGIN:STANDARD
TZOFFSETFROM:-0400
TZOFFSETTO:-0500
TZNAME:EST
DTSTART:20261101T060000
END:STANDARD
END:VTIMEZONE
BEGIN:VEVENT
DTSTART;TZID=America/New_York:20251202T193000
DTEND;TZID=America/New_York:20251202T210000
DTSTAMP:20260423T161654
CREATED:20250711T131340Z
LAST-MODIFIED:20250711T131340Z
UID:1180-1764703800-1764709200@troop2statenisland.com
SUMMARY:🧭 Troop 2 General Meeting
DESCRIPTION:📋Weekly scout meeting covering planning\, activities\, and troop updates.
URL:https://troop2statenisland.com/event/%f0%9f%a7%ad-troop-2-general-meeting-11/
LOCATION:Immanuel Union Church\, 693 Jewett Ave\, Staten Island\, New York\, 10314
ORGANIZER;CN="Scoutmaster Joe Nerone":MAILTO:ukj518@gmail.com
END:VEVENT
BEGIN:VEVENT
DTSTART;TZID=America/New_York:20251202T210000
DTEND;TZID=America/New_York:20251202T220000
DTSTAMP:20260423T161654
CREATED:20250711T172616Z
LAST-MODIFIED:20250711T172616Z
UID:1236-1764709200-1764712800@troop2statenisland.com
SUMMARY:🧾 Troop 2 Committee Meeting
DESCRIPTION:Troop 2’s adult leaders and committee members will meet to discuss upcoming events\, fundraising\, advancement\, campouts\, and troop logistics. This is an important opportunity to help shape the direction of the troop and support the success of our scouts. \n\n\n\n👥 All registered committee members and interested parents are welcome to attend. \n\n\n\n📝 Agenda items may include: \n\n\n\n\nReview of recent activities\n\n\n\nPlanning future events (campouts\, service\, fundraisers)\n\n\n\nBudget and fundraising updates\n\n\n\nScout advancement and troop needs\n\n\n\n\nHave something you’d like to discuss? Email the Scoutmaster 24 hrs. in advance to add it to the agenda.
URL:https://troop2statenisland.com/event/%f0%9f%a7%be-troop-2-committee-meeting-3/
LOCATION:Immanuel Union Church\, 693 Jewett Ave\, Staten Island\, New York\, 10314
ORGANIZER;CN="Scoutmaster Joe Nerone":MAILTO:ukj518@gmail.com
END:VEVENT
BEGIN:VEVENT
DTSTART;TZID=America/New_York:20251206T080000
DTEND;TZID=America/New_York:20251206T170000
DTSTAMP:20260423T161654
CREATED:20251001T160309Z
LAST-MODIFIED:20251001T160310Z
UID:1425-1765008000-1765040400@troop2statenisland.com
SUMMARY:🐾 Cub Scouts & Troop 2 Wreath Sale 🎄
DESCRIPTION:Support Pack & Troop 2 Scouts by purchasing holiday wreaths.
URL:https://troop2statenisland.com/event/%f0%9f%90%be-cub-scouts-troop-2-wreath-sale-%f0%9f%8e%84/
LOCATION:Immanuel Union Church\, 693 Jewett Ave\, Staten Island\, New York\, 10314
ORGANIZER;CN="Scoutmaster Joe Nerone":MAILTO:ukj518@gmail.com
END:VEVENT
BEGIN:VEVENT
DTSTART;TZID=America/New_York:20251206T080000
DTEND;TZID=America/New_York:20251206T170000
DTSTAMP:20260423T161654
CREATED:20250711T165547Z
LAST-MODIFIED:20250711T165550Z
UID:1217-1765008000-1765040400@troop2statenisland.com
SUMMARY:🌲 Troop 2 Holiday Wreath Sale
DESCRIPTION:Support Troop 2 by purchasing a beautifully decorated holiday wreath! Our scouts will be selling wreaths throughout the community to help raise funds for camping trips\, equipment\, and events. \n\n\n\n🌟 Each wreath is handcrafted with care during our wreath decorating night and makes the perfect addition to your holiday décor. \n\n\n\n💰 All proceeds go directly to supporting Troop 2 activities. \n\n\n\n🧢 Scouts will be assigned to shifts – stay tuned for time and location details. \n\n\n\n👨‍👩‍👦 Families are welcome to assist.
URL:https://troop2statenisland.com/event/%f0%9f%8c%b2-troop-2-holiday-wreath-sale/
LOCATION:Immanuel Union Church\, 693 Jewett Ave\, Staten Island\, New York\, 10314
ORGANIZER;CN="Scoutmaster Joe Nerone":MAILTO:ukj518@gmail.com
END:VEVENT
BEGIN:VEVENT
DTSTART;TZID=America/New_York:20251209T193000
DTEND;TZID=America/New_York:20251209T210000
DTSTAMP:20260423T161654
CREATED:20250711T131340Z
LAST-MODIFIED:20250711T131340Z
UID:1181-1765308600-1765314000@troop2statenisland.com
SUMMARY:🧭 Troop 2 General Meeting
DESCRIPTION:📋Weekly scout meeting covering planning\, activities\, and troop updates.
URL:https://troop2statenisland.com/event/%f0%9f%a7%ad-troop-2-general-meeting-12/
LOCATION:Immanuel Union Church\, 693 Jewett Ave\, Staten Island\, New York\, 10314
ORGANIZER;CN="Scoutmaster Joe Nerone":MAILTO:ukj518@gmail.com
END:VEVENT
BEGIN:VEVENT
DTSTART;TZID=America/New_York:20251216T180000
DTEND;TZID=America/New_York:20251216T210000
DTSTAMP:20260423T161654
CREATED:20250711T165918Z
LAST-MODIFIED:20250711T165920Z
UID:1219-1765908000-1765918800@troop2statenisland.com
SUMMARY:🎄 Troop 2 Christmas Party\, Dinner & Court of Honor
DESCRIPTION:Celebrate the holiday season with Troop 2 at our annual Christmas Party and Court of Honor! 🎉🎖️ \n\n\n\nEnjoy a festive evening with dinner\, music\, and fellowship as we recognize the achievements of our scouts and share the holiday spirit together. This is a great opportunity for families to come together and reflect on the accomplishments of the season. \n\n\n\n🍽️ Dinner will be served \n\n\n\n🎖️ Scouts will be presented with rank advancements and merit badges \n\n\n\n🎁 Fun\, food\, and cheer for the whole family! \n\n\n\n👨‍👩‍👧‍👦 Families are warmly invited – please join us in celebrating your scout’s progress! \n\n\n\n🧥 Class A uniforms required for all scouts.
URL:https://troop2statenisland.com/event/%f0%9f%8e%84-troop-2-christmas-party-dinner-court-of-honor/
LOCATION:Immanuel Union Church\, 693 Jewett Ave\, Staten Island\, New York\, 10314
ORGANIZER;CN="Scoutmaster Joe Nerone":MAILTO:ukj518@gmail.com
END:VEVENT
BEGIN:VEVENT
DTSTART;TZID=America/New_York:20251218T180000
DTEND;TZID=America/New_York:20251218T200000
DTSTAMP:20260423T161654
CREATED:20251001T160441Z
LAST-MODIFIED:20251001T160443Z
UID:1427-1766080800-1766088000@troop2statenisland.com
SUMMARY:🐾 Cub Scouts Holiday Party & Pack Meeting 🎁
DESCRIPTION:Celebrate the season with Cub Scouts Pack 2 at our holiday party and Pack Meeting.
URL:https://troop2statenisland.com/event/%f0%9f%90%be-cub-scouts-holiday-party-pack-meeting-%f0%9f%8e%81/
LOCATION:Immanuel Union Church\, 693 Jewett Ave\, Staten Island\, New York\, 10314
ORGANIZER;CN="Brian Levinsky":MAILTO:pack2.GNYC@gmail.com
END:VEVENT
END:VCALENDAR