BEGIN:VCALENDAR
VERSION:2.0
PRODID:-//Troop 2 Staten Island - ECPv6.15.20//NONSGML v1.0//EN
CALSCALE:GREGORIAN
METHOD:PUBLISH
X-WR-CALNAME:Troop 2 Staten Island
X-ORIGINAL-URL:https://troop2statenisland.com
X-WR-CALDESC:Events for Troop 2 Staten Island
REFRESH-INTERVAL;VALUE=DURATION:PT1H
X-Robots-Tag:noindex
X-PUBLISHED-TTL:PT1H
BEGIN:VTIMEZONE
TZID:America/New_York
BEGIN:DAYLIGHT
TZOFFSETFROM:-0500
TZOFFSETTO:-0400
TZNAME:EDT
DTSTART:20220313T070000
END:DAYLIGHT
BEGIN:STANDARD
TZOFFSETFROM:-0400
TZOFFSETTO:-0500
TZNAME:EST
DTSTART:20221106T060000
END:STANDARD
BEGIN:DAYLIGHT
TZOFFSETFROM:-0500
TZOFFSETTO:-0400
TZNAME:EDT
DTSTART:20230312T070000
END:DAYLIGHT
BEGIN:STANDARD
TZOFFSETFROM:-0400
TZOFFSETTO:-0500
TZNAME:EST
DTSTART:20231105T060000
END:STANDARD
BEGIN:DAYLIGHT
TZOFFSETFROM:-0500
TZOFFSETTO:-0400
TZNAME:EDT
DTSTART:20240310T070000
END:DAYLIGHT
BEGIN:STANDARD
TZOFFSETFROM:-0400
TZOFFSETTO:-0500
TZNAME:EST
DTSTART:20241103T060000
END:STANDARD
END:VTIMEZONE
BEGIN:VEVENT
DTSTART;TZID=America/New_York:20231014T060000
DTEND;TZID=America/New_York:20231014T150000
DTSTAMP:20260424T025447
CREATED:20231010T230456Z
LAST-MODIFIED:20231010T230458Z
UID:249-1697263200-1697295600@troop2statenisland.com
SUMMARY:WestFest at Westerleigh Park
DESCRIPTION:Troop 2 will be participating in the Westerleigh Folk Festival on the 14th of October.  We will have a table to recruite your pack members and have a section in the childrens area to set up a campsite\, knot station and other activities for the older scouts to display to the propects
URL:https://troop2statenisland.com/event/westfest-at-westerleigh-park/
LOCATION:New York
ORGANIZER;CN="Thomas Lurker":MAILTO:thomaslurker@gmail.com
END:VEVENT
BEGIN:VEVENT
DTSTART;TZID=America/New_York:20230929T143000
DTEND;TZID=America/New_York:20230929T180000
DTSTAMP:20260424T025447
CREATED:20230923T064220Z
LAST-MODIFIED:20230923T065105Z
UID:186-1695997800-1696010400@troop2statenisland.com
SUMMARY:Pack and Troop 2 - Family Bingo Night
DESCRIPTION:All families and friends are welcome for this fun night of Bingo !
URL:https://troop2statenisland.com/event/pack-and-troop-2-family-bingo-night/
LOCATION:New York
END:VEVENT
BEGIN:VEVENT
DTSTART;TZID=America/New_York:20230926T143000
DTEND;TZID=America/New_York:20230926T170000
DTSTAMP:20260424T025447
CREATED:20230923T004924Z
LAST-MODIFIED:20230923T004926Z
UID:184-1695738600-1695747600@troop2statenisland.com
SUMMARY:Troop 2 Court of Honor/Pizza Dinner Party
DESCRIPTION:
URL:https://troop2statenisland.com/event/troop-2-court-of-honor-pizza-dinner-party/
LOCATION:New York
END:VEVENT
END:VCALENDAR