BEGIN:VCALENDAR
VERSION:2.0
PRODID:-//Troop 2 Staten Island - ECPv6.15.20//NONSGML v1.0//EN
CALSCALE:GREGORIAN
METHOD:PUBLISH
X-WR-CALNAME:Troop 2 Staten Island
X-ORIGINAL-URL:https://troop2statenisland.com
X-WR-CALDESC:Events for Troop 2 Staten Island
REFRESH-INTERVAL;VALUE=DURATION:PT1H
X-Robots-Tag:noindex
X-PUBLISHED-TTL:PT1H
BEGIN:VTIMEZONE
TZID:America/New_York
BEGIN:DAYLIGHT
TZOFFSETFROM:-0500
TZOFFSETTO:-0400
TZNAME:EDT
DTSTART:20220313T070000
END:DAYLIGHT
BEGIN:STANDARD
TZOFFSETFROM:-0400
TZOFFSETTO:-0500
TZNAME:EST
DTSTART:20221106T060000
END:STANDARD
BEGIN:DAYLIGHT
TZOFFSETFROM:-0500
TZOFFSETTO:-0400
TZNAME:EDT
DTSTART:20230312T070000
END:DAYLIGHT
BEGIN:STANDARD
TZOFFSETFROM:-0400
TZOFFSETTO:-0500
TZNAME:EST
DTSTART:20231105T060000
END:STANDARD
BEGIN:DAYLIGHT
TZOFFSETFROM:-0500
TZOFFSETTO:-0400
TZNAME:EDT
DTSTART:20240310T070000
END:DAYLIGHT
BEGIN:STANDARD
TZOFFSETFROM:-0400
TZOFFSETTO:-0500
TZNAME:EST
DTSTART:20241103T060000
END:STANDARD
BEGIN:DAYLIGHT
TZOFFSETFROM:-0500
TZOFFSETTO:-0400
TZNAME:EDT
DTSTART:20250309T070000
END:DAYLIGHT
BEGIN:STANDARD
TZOFFSETFROM:-0400
TZOFFSETTO:-0500
TZNAME:EST
DTSTART:20251102T060000
END:STANDARD
BEGIN:DAYLIGHT
TZOFFSETFROM:-0500
TZOFFSETTO:-0400
TZNAME:EDT
DTSTART:20260308T070000
END:DAYLIGHT
BEGIN:STANDARD
TZOFFSETFROM:-0400
TZOFFSETTO:-0500
TZNAME:EST
DTSTART:20261101T060000
END:STANDARD
END:VTIMEZONE
BEGIN:VEVENT
DTSTART;TZID=America/New_York:20251004T110000
DTEND;TZID=America/New_York:20251004T160000
DTSTAMP:20260423T175400
CREATED:20250710T220523Z
LAST-MODIFIED:20250710T220525Z
UID:1133-1759575600-1759593600@troop2statenisland.com
SUMMARY:🎪Scout Fest 2025
DESCRIPTION:Join Troop 2 for a day of fun\, scouting demonstrations\, games\, and family-friendly activities at our annual ScoutFest! Meet other families\, learn about scouting\, and enjoy food and entertainment.
URL:https://troop2statenisland.com/event/%f0%9f%8e%aascout-fest-2025/
LOCATION:New York
END:VEVENT
BEGIN:VEVENT
DTSTART;TZID=America/New_York:20250930T193000
DTEND;TZID=America/New_York:20250930T210000
DTSTAMP:20260423T175400
CREATED:20250711T131340Z
LAST-MODIFIED:20250711T131340Z
UID:1169-1759260600-1759266000@troop2statenisland.com
SUMMARY:🧭 Troop 2 General Meeting
DESCRIPTION:📋Weekly scout meeting covering planning\, activities\, and troop updates.
URL:https://troop2statenisland.com/event/%f0%9f%a7%ad-troop-2-general-meeting-3/
LOCATION:Immanuel Union Church\, 693 Jewett Ave\, Staten Island\, New York\, 10314
ORGANIZER;CN="Scoutmaster Joe Nerone":MAILTO:ukj518@gmail.com
END:VEVENT
BEGIN:VEVENT
DTSTART;TZID=America/New_York:20250930T190000
DTEND;TZID=America/New_York:20250930T210000
DTSTAMP:20260423T175400
CREATED:20250915T002644Z
LAST-MODIFIED:20250915T002646Z
UID:1399-1759258800-1759266000@troop2statenisland.com
SUMMARY:📌 Volunteer Sign-Up for Scout Fest & Scout Fest Planning Meeting
DESCRIPTION:Join us as we prepare for Scout Fest 2025\, a neighborhood block party hosted by Pack 2 and Troop 2 at Immanuel Union Church (693 Jewett Ave\, Staten Island\, NY 10314). \n\n\n\nHigh school students are invited to volunteer at Scout Fest to earn community service hours\, meet new people\, and support the community. Volunteers will assist with set-up\, activity stations\, welcoming families\, and clean-up. Parents are also encouraged to attend to help finalize volunteer needs\, activity stations\, and community outreach for the event. Your input and support will help make Scout Fest a success for all families.
URL:https://troop2statenisland.com/event/%f0%9f%93%8c-volunteer-sign-up-for-scout-fest-scout-fest-planning-meeting/
LOCATION:Immanuel Union Church\, 693 Jewett Ave\, Staten Island\, New York\, 10314
ORGANIZER;CN="Scoutmaster Joe Nerone":MAILTO:ukj518@gmail.com
END:VEVENT
BEGIN:VEVENT
DTSTART;TZID=America/New_York:20250923T193000
DTEND;TZID=America/New_York:20250923T210000
DTSTAMP:20260423T175400
CREATED:20250711T131340Z
LAST-MODIFIED:20250711T131340Z
UID:1168-1758655800-1758661200@troop2statenisland.com
SUMMARY:🧭 Troop 2 General Meeting
DESCRIPTION:📋Weekly scout meeting covering planning\, activities\, and troop updates.
URL:https://troop2statenisland.com/event/%f0%9f%a7%ad-troop-2-general-meeting-2/
LOCATION:Immanuel Union Church\, 693 Jewett Ave\, Staten Island\, New York\, 10314
ORGANIZER;CN="Scoutmaster Joe Nerone":MAILTO:ukj518@gmail.com
END:VEVENT
BEGIN:VEVENT
DTSTART;TZID=America/New_York:20250916T193000
DTEND;TZID=America/New_York:20250916T210000
DTSTAMP:20260423T175400
CREATED:20250711T004252Z
LAST-MODIFIED:20250711T131458Z
UID:1139-1758051000-1758056400@troop2statenisland.com
SUMMARY:🧭 Troop 2 General Meeting
DESCRIPTION:Weekly scout meeting. Scouts should be in full Class A uniform and bring their handbooks.
URL:https://troop2statenisland.com/event/general-meeting/
LOCATION:Immanuel Union Church\, 693 Jewett Ave\, Staten Island\, New York\, 10314
ORGANIZER;CN="Scoutmaster Joe Nerone":MAILTO:ukj518@gmail.com
END:VEVENT
BEGIN:VEVENT
DTSTART;TZID=America/New_York:20250916T183000
DTEND;TZID=America/New_York:20250916T200000
DTSTAMP:20260423T175400
CREATED:20250914T205826Z
LAST-MODIFIED:20250915T102517Z
UID:1329-1758047400-1758052800@troop2statenisland.com
SUMMARY:Scout Fest Planning Meeting
DESCRIPTION:We’re getting ready for Scout Fest! Parents will review stations\, assign roles\, and finalize logistics (set-up\, games/activities\, food\, and clean-up). \n\n\n\n• Who: All Pack/Troop parents and committee members \n\n\n\n• Bring: Ideas\, availability\, and any questions
URL:https://troop2statenisland.com/event/scout-fest-planning-meeting/
LOCATION:Immanuel Union Church\, 693 Jewett Ave\, Staten Island\, New York\, 10314
ORGANIZER;CN="Scoutmaster Joe Nerone":MAILTO:ukj518@gmail.com
END:VEVENT
BEGIN:VEVENT
DTSTART;TZID=America/New_York:20250909T180000
DTEND;TZID=America/New_York:20250909T210000
DTSTAMP:20260423T175400
CREATED:20250711T003758Z
LAST-MODIFIED:20250711T003801Z
UID:1135-1757440800-1757451600@troop2statenisland.com
SUMMARY:Court of Honor & Welcome Back BBQ
DESCRIPTION:Join us for the Court of Honor and Welcome Back BBQ! Scouts and families are invited to celebrate rank advancements\, reconnect after summer\, and enjoy a great meal together.
URL:https://troop2statenisland.com/event/court-of-honor-welcome-back-bbq/
LOCATION:Immanuel Union Church\, 693 Jewett Ave\, Staten Island\, New York\, 10314
ORGANIZER;CN="Scoutmaster Joe Nerone":MAILTO:ukj518@gmail.com
END:VEVENT
BEGIN:VEVENT
DTSTART;TZID=America/New_York:20250727T094500
DTEND;TZID=America/New_York:20250802T100000
DTSTAMP:20260423T175400
CREATED:20250708T000912Z
LAST-MODIFIED:20250709T231358Z
UID:863-1753609500-1754128800@troop2statenisland.com
SUMMARY:Goose Pond Summer Camp
DESCRIPTION:Join us for an unforgettable week at Goose Pond Summer Camp! \n\n\n\nScouts will participate in a variety of exciting activities including archery\, swimming\, merit badge sessions\, nature exploration\, and more. This experience fosters independence\, teamwork\, and personal growth while building lifelong memories. \n\n\n\n📌 What to expect: \n\n\n\n\nOutdoor adventure and hands-on learning\n\n\n\nDaily campfire programs\n\n\n\nTroop bonding activities\n\n\n\nOptional ATV program for eligible scouts\n\n\n\nTrained staff and leaders ensuring safety and supervision\n\n\n\n\n🏕️ Be sure to pack: Full uniform\, medical forms\, personal gear\, and a positive attitude!
URL:https://troop2statenisland.com/event/goose-pond-summer-camp/
LOCATION:New York
END:VEVENT
BEGIN:VEVENT
DTSTART;TZID=America/New_York:20250715T190000
DTEND;TZID=America/New_York:20250715T200000
DTSTAMP:20260423T175400
CREATED:20250711T180147Z
LAST-MODIFIED:20250711T180149Z
UID:1239-1752606000-1752609600@troop2statenisland.com
SUMMARY:🎉 Scout Fest Planning Meeting
DESCRIPTION:Join us for an important meeting to plan Scout Fest! \n\n\n\n📣 Come learn how you can help – and bring your own suggestions! \n\n\n\nWe don’t expect you to stay the whole day on event day – just lend a hand where you can. \n\n\n\nCan’t make the meeting? Reach out and we’ll share ways you can still be involved.
URL:https://troop2statenisland.com/event/%f0%9f%8e%89-scout-fest-planning-meeting/
LOCATION:Immanuel Union Church\, 693 Jewett Ave\, Staten Island\, New York\, 10314
ORGANIZER;CN="Scoutmaster Joe Nerone":MAILTO:ukj518@gmail.com
END:VEVENT
BEGIN:VEVENT
DTSTART;TZID=America/New_York:20250708T190000
DTEND;TZID=America/New_York:20250708T193000
DTSTAMP:20260423T175400
CREATED:20250708T000547Z
LAST-MODIFIED:20250708T112643Z
UID:861-1752001200-1752003000@troop2statenisland.com
SUMMARY:Goose Pond Parent Meeting
DESCRIPTION:We will be collecting medical forms and discussing important details for summer camp at Goose Pond. This includes: \n\n\n\n\nCamper dietary needs and allergies\n\n\n\nATV program information\n\n\n\nCamp logistics and expectations\n\n\n\nQ&A for parents\n\n\n\n\nPlease make every effort to attend so your scout is fully prepared for an amazing camp experience!
URL:https://troop2statenisland.com/event/goose-pond-summer-camp-parent-meeting/
LOCATION:Immanuel Union Church\, 693 Jewett Ave\, Staten Island\, New York\, 10314
END:VEVENT
BEGIN:VEVENT
DTSTART;TZID=America/New_York:20240714T060000
DTEND;TZID=America/New_York:20240720T130000
DTSTAMP:20260423T175400
CREATED:20240312T214717Z
LAST-MODIFIED:20240312T214719Z
UID:533-1720936800-1721480400@troop2statenisland.com
SUMMARY:Ten Mile River Summer Camp
DESCRIPTION:Summer Camp for 2024 – Ten Mile River
URL:https://troop2statenisland.com/event/ten-mile-river-summer-camp/
LOCATION:New York
END:VEVENT
BEGIN:VEVENT
DTSTART;TZID=America/New_York:20240625T150000
DTEND;TZID=America/New_York:20240625T170000
DTSTAMP:20260423T175400
CREATED:20240605T152428Z
LAST-MODIFIED:20240605T152428Z
UID:551-1719327600-1719334800@troop2statenisland.com
SUMMARY:Summer Camp prep
DESCRIPTION:
URL:https://troop2statenisland.com/event/summer-camp-prep/
LOCATION:New York
END:VEVENT
BEGIN:VEVENT
DTSTART;TZID=America/New_York:20240618T140000
DTEND;TZID=America/New_York:20240618T170000
DTSTAMP:20260423T175400
CREATED:20240605T152212Z
LAST-MODIFIED:20240605T152212Z
UID:549-1718719200-1718730000@troop2statenisland.com
SUMMARY:Scout's vs Parents Night
DESCRIPTION:
URL:https://troop2statenisland.com/event/scouts-vs-parents-night/
LOCATION:New York
END:VEVENT
BEGIN:VEVENT
DTSTART;TZID=America/New_York:20240611T143000
DTEND;TZID=America/New_York:20240611T170000
DTSTAMP:20260423T175400
CREATED:20240605T151907Z
LAST-MODIFIED:20240605T151907Z
UID:547-1718116200-1718125200@troop2statenisland.com
SUMMARY:Flag retirement ceremony
DESCRIPTION:
URL:https://troop2statenisland.com/event/flag-retirement-ceremony/
LOCATION:New York
END:VEVENT
BEGIN:VEVENT
DTSTART;TZID=America/New_York:20240419T120000
DTEND;TZID=America/New_York:20240421T100000
DTSTAMP:20260423T175400
CREATED:20240312T214446Z
LAST-MODIFIED:20240312T214448Z
UID:531-1713528000-1713693600@troop2statenisland.com
SUMMARY:Shooting Sport Weekend - TMR
DESCRIPTION:Held in the Spring\, the Shooting Sports Invitational is an annual competitive event held at Ten Mile River Scout Camps. This event features a variety of activities including .22\, skeet\, Western Action\, archery and tomahawk competitions. Competitors of all levels\, including beginners are welcome to attend and all activates are run by BSA and NRA Certified Range Safety Officers and or Firearms Instructors.
URL:https://troop2statenisland.com/event/shooting-sport-weekend-tmr/
LOCATION:New York
END:VEVENT
BEGIN:VEVENT
DTSTART;TZID=America/New_York:20240405T120000
DTEND;TZID=America/New_York:20240407T080000
DTSTAMP:20260423T175400
CREATED:20240312T193411Z
LAST-MODIFIED:20240312T193412Z
UID:529-1712318400-1712476800@troop2statenisland.com
SUMMARY:Annual Maritime College Camporee
DESCRIPTION:Annual Maritime College Camporee \n\n\n\nApril 5th-7th\, 2024 \n\n\n\nEach year the Eagle Scout Fraternity runs the Maritime College Camporee.  This unique experience gives scouts the opportunity to learn about the professional maritime industry. \n\n\n\nScouts camp at a Civil War Era Fort in New York City! \n\n\n\n​ \n\n\n\nSUNY Maritime College is the oldest and largest maritime academy in the United States!
URL:https://troop2statenisland.com/event/annual-maritime-college-camporee/
LOCATION:New York
END:VEVENT
BEGIN:VEVENT
DTSTART;TZID=America/New_York:20240326T153000
DTEND;TZID=America/New_York:20240326T170000
DTSTAMP:20260423T175400
CREATED:20240312T193117Z
LAST-MODIFIED:20240312T193119Z
UID:527-1711467000-1711472400@troop2statenisland.com
SUMMARY:Troop 2 Pinewood Derby
DESCRIPTION:The Troop will be holding their Pinewood Derby Race during the scheduled meeting time. \n\n\n\nBring your racecars … 5 ounces and they have to fit on the tracks … other than that… no holds barred !! \n\n\n\nGood luck racers.
URL:https://troop2statenisland.com/event/troop-2-pinewood-derby/
LOCATION:New York
END:VEVENT
BEGIN:VEVENT
DTSTART;TZID=America/New_York:20240326T153000
DTEND;TZID=America/New_York:20240326T163000
DTSTAMP:20260423T175400
CREATED:20240312T180355Z
LAST-MODIFIED:20240312T180356Z
UID:525-1711467000-1711470600@troop2statenisland.com
SUMMARY:Night at the Races - Initial Committee Meeting
DESCRIPTION:We will be holding a meeting to go over the details for the first ever Troop 2 Night at the Races event. \n\n\n\nPlease join us to see how you can help make this another successful event for the young men of Troop 2. \n\n\n\nSee you all there !!
URL:https://troop2statenisland.com/event/night-at-the-races-initial-committee-meeting/
LOCATION:New York
END:VEVENT
BEGIN:VEVENT
DTSTART;TZID=America/New_York:20240316T044500
DTEND;TZID=America/New_York:20240316T060000
DTSTAMP:20260423T175400
CREATED:20240312T175855Z
LAST-MODIFIED:20240312T175856Z
UID:521-1710564300-1710568800@troop2statenisland.com
SUMMARY:Rifle Shooting at Colonial Rifle Club
DESCRIPTION:There are 10 spots on hold. If you changed your mind and are not coming let ScoutMaster Nerone know asap. Cost is $ 4 for 50 rounds. 
URL:https://troop2statenisland.com/event/rifle-shooting-at-colonial-rifle-club/
LOCATION:Colonial Rifle Club\, 4484 Arthur Kill RoD\, Staten Island\, New York\, 10309\, United States
END:VEVENT
BEGIN:VEVENT
DTSTART;TZID=America/New_York:20240312T150000
DTEND;TZID=America/New_York:20240312T170000
DTSTAMP:20260423T175400
CREATED:20240312T175503Z
LAST-MODIFIED:20240312T175504Z
UID:519-1710255600-1710262800@troop2statenisland.com
SUMMARY:Troop 2 Annual Cook Off !!
DESCRIPTION:We will be STARTING  the meeting a little earlier 7:00pm is what was decided by the scouts.  \n\n\n\nHopefully you have been in touch with your team members.  \n\n\n\nIf you don’t know your team I believe the ASPL Ben L has the list get in touch with him. \n\n\n\nMr.and Mrs.. Montouri arranged for a special guest to judge the event. 
URL:https://troop2statenisland.com/event/troop-2-annual-cook-off/
LOCATION:New York
END:VEVENT
BEGIN:VEVENT
DTSTART;TZID=America/New_York:20240202T140000
DTEND;TZID=America/New_York:20240202T180000
DTSTAMP:20260423T175400
CREATED:20240109T234759Z
LAST-MODIFIED:20240109T234801Z
UID:486-1706882400-1706896800@troop2statenisland.com
SUMMARY:Radio Bingo
DESCRIPTION:RADIO BINGO  \n\n\n\nPlace : Immanuel Union Church   \n\n\n\nTime 7:00pm-11:00 (doors open 7pm no earlier or we get charged) \n\n\n\nTicket price $40 includes bingo card / chips soda / coffee  (table or in back not sure yet) \n\n\n\n10-12 people to a table  \n\n\n\nBasket Raffles  10-15  (Dj decision ) \n\n\n\n50/50    (end of night) \n\n\n\nBirthday board. (end of night) \n\n\n\nnumber sticks $5 each ( called between rounds )  \n\n\n\nAttendees can bring what they like with that being said it’s a 21 AND OVER event  \n\n\n\nNO KIDS NO EXCEPTIONS  \n\n\n\nPrizes last year we did wine and scratch off any other ideas are welcome. \n\n\n\nAfter meeting flyers will be made if you can help with printing let us know  \n\n\n\nalso post on social media. \n\n\n\nNeed volunteers for: \n\n\n\n Basket (going to business’s)  \n\n\n\nset up 5:30pm \n\n\n\nclean up after event  \n\n\n\nkitchen (yes Carol I know ) \n\n\n\ndoor collecting tickets and such  \n\n\n\nselling tickets \n\n\n\n50/50 selling \n\n\n\nPrizes 
URL:https://troop2statenisland.com/event/radio-bingo/
LOCATION:New York
END:VEVENT
BEGIN:VEVENT
DTSTART;TZID=America/New_York:20240130T143000
DTEND;TZID=America/New_York:20240130T160000
DTSTAMP:20260423T175400
CREATED:20240109T234535Z
LAST-MODIFIED:20240109T234537Z
UID:484-1706625000-1706630400@troop2statenisland.com
SUMMARY:Weekly Troop Meeting
DESCRIPTION:
URL:https://troop2statenisland.com/event/weekly-troop-meeting-4/
LOCATION:New York
END:VEVENT
BEGIN:VEVENT
DTSTART;TZID=America/New_York:20240123T143000
DTEND;TZID=America/New_York:20240123T160000
DTSTAMP:20260423T175400
CREATED:20240109T234337Z
LAST-MODIFIED:20240109T234338Z
UID:482-1706020200-1706025600@troop2statenisland.com
SUMMARY:Weekly Troop Meeting
DESCRIPTION:
URL:https://troop2statenisland.com/event/weekly-troop-meeting-3/
LOCATION:New York
END:VEVENT
BEGIN:VEVENT
DTSTART;TZID=America/New_York:20240116T143000
DTEND;TZID=America/New_York:20240116T160000
DTSTAMP:20260423T175400
CREATED:20240109T234112Z
LAST-MODIFIED:20240109T234140Z
UID:480-1705415400-1705420800@troop2statenisland.com
SUMMARY:Weekly Troop Meeting
DESCRIPTION:At Immanuel Union Church
URL:https://troop2statenisland.com/event/weekly-troop-meeting-2/
LOCATION:New York
END:VEVENT
BEGIN:VEVENT
DTSTART;TZID=America/New_York:20240109T140000
DTEND;TZID=America/New_York:20240109T160000
DTSTAMP:20260423T175400
CREATED:20240109T233822Z
LAST-MODIFIED:20240109T234220Z
UID:478-1704808800-1704816000@troop2statenisland.com
SUMMARY:John Montuori's Eagle Court of Honor
DESCRIPTION:John Montuori’s Eagle Court of Honor \n\n\n\nYou are all invited to attend John’s Eagle Scout Court of Honor at the church on Tuesday\, January 9th\, 2024 at 7pm \n\n\n\nReception following the ceremony.
URL:https://troop2statenisland.com/event/john-montuoris-eagle-court-of-honor/
LOCATION:New York
END:VEVENT
BEGIN:VEVENT
DTSTART;TZID=America/New_York:20231128T143000
DTEND;TZID=America/New_York:20231128T160000
DTSTAMP:20260423T175400
CREATED:20231109T063505Z
LAST-MODIFIED:20231109T063506Z
UID:261-1701181800-1701187200@troop2statenisland.com
SUMMARY:Weekly Troop Meeting
DESCRIPTION:
URL:https://troop2statenisland.com/event/weekly-troop-meeting/
LOCATION:New York
END:VEVENT
BEGIN:VEVENT
DTSTART;TZID=America/New_York:20231121T130000
DTEND;TZID=America/New_York:20231121T160000
DTSTAMP:20260423T175400
CREATED:20231109T063148Z
LAST-MODIFIED:20231109T063348Z
UID:258-1700571600-1700582400@troop2statenisland.com
SUMMARY:Weekly Meeting
DESCRIPTION:We will meet at the church at 6pm
URL:https://troop2statenisland.com/event/weekly-meeting/
LOCATION:New York
END:VEVENT
BEGIN:VEVENT
DTSTART;TZID=America/New_York:20231119T060000
DTEND;TZID=America/New_York:20231119T073000
DTSTAMP:20260423T175400
CREATED:20231109T063026Z
LAST-MODIFIED:20231109T063027Z
UID:256-1700373600-1700379000@troop2statenisland.com
SUMMARY:Food Drive Pick-Up
DESCRIPTION:We will meet at the church to pick up donations from the neighborhood.
URL:https://troop2statenisland.com/event/food-drive-pick-up/
LOCATION:New York
END:VEVENT
BEGIN:VEVENT
DTSTART;TZID=America/New_York:20231117T140000
DTEND;TZID=America/New_York:20231117T163000
DTSTAMP:20260423T175400
CREATED:20231109T062434Z
LAST-MODIFIED:20231109T062436Z
UID:254-1700229600-1700238600@troop2statenisland.com
SUMMARY:Family Bingo
DESCRIPTION:Come join us at another fun night of Bingo at Immanuel Union Church.
URL:https://troop2statenisland.com/event/family-bingo/
LOCATION:New York
END:VEVENT
BEGIN:VEVENT
DTSTART;TZID=America/New_York:20231114T140000
DTEND;TZID=America/New_York:20231114T160000
DTSTAMP:20260423T175400
CREATED:20231109T061930Z
LAST-MODIFIED:20231109T061931Z
UID:252-1699970400-1699977600@troop2statenisland.com
SUMMARY:Weekly Meeting and Food Drive Hand Out Distribution
DESCRIPTION:
URL:https://troop2statenisland.com/event/weekly-meeting-and-food-drive-hand-out-distribution/
LOCATION:New York
END:VEVENT
END:VCALENDAR