BEGIN:VCALENDAR
VERSION:2.0
PRODID:-//Troop 2 Staten Island - ECPv6.15.20//NONSGML v1.0//EN
CALSCALE:GREGORIAN
METHOD:PUBLISH
X-WR-CALNAME:Troop 2 Staten Island
X-ORIGINAL-URL:https://troop2statenisland.com
X-WR-CALDESC:Events for Troop 2 Staten Island
REFRESH-INTERVAL;VALUE=DURATION:PT1H
X-Robots-Tag:noindex
X-PUBLISHED-TTL:PT1H
BEGIN:VTIMEZONE
TZID:America/New_York
BEGIN:DAYLIGHT
TZOFFSETFROM:-0500
TZOFFSETTO:-0400
TZNAME:EDT
DTSTART:20250309T070000
END:DAYLIGHT
BEGIN:STANDARD
TZOFFSETFROM:-0400
TZOFFSETTO:-0500
TZNAME:EST
DTSTART:20251102T060000
END:STANDARD
BEGIN:DAYLIGHT
TZOFFSETFROM:-0500
TZOFFSETTO:-0400
TZNAME:EDT
DTSTART:20260308T070000
END:DAYLIGHT
BEGIN:STANDARD
TZOFFSETFROM:-0400
TZOFFSETTO:-0500
TZNAME:EST
DTSTART:20261101T060000
END:STANDARD
BEGIN:DAYLIGHT
TZOFFSETFROM:-0500
TZOFFSETTO:-0400
TZNAME:EDT
DTSTART:20270314T070000
END:DAYLIGHT
BEGIN:STANDARD
TZOFFSETFROM:-0400
TZOFFSETTO:-0500
TZNAME:EST
DTSTART:20271107T060000
END:STANDARD
END:VTIMEZONE
BEGIN:VEVENT
DTSTART;TZID=America/New_York:20260324T193000
DTEND;TZID=America/New_York:20260324T210000
DTSTAMP:20260423T151440
CREATED:20250711T131340Z
LAST-MODIFIED:20250711T131340Z
UID:1194-1774380600-1774386000@troop2statenisland.com
SUMMARY:🧭 Troop 2 General Meeting
DESCRIPTION:📋Weekly scout meeting covering planning\, activities\, and troop updates.
URL:https://troop2statenisland.com/event/%f0%9f%a7%ad-troop-2-general-meeting-17-7/
LOCATION:Immanuel Union Church\, 693 Jewett Ave\, Staten Island\, New York\, 10314
ORGANIZER;CN="Scoutmaster Joe Nerone":MAILTO:ukj518@gmail.com
END:VEVENT
BEGIN:VEVENT
DTSTART;TZID=America/New_York:20260326T180000
DTEND;TZID=America/New_York:20260326T200000
DTSTAMP:20260423T151440
CREATED:20251001T161340Z
LAST-MODIFIED:20251001T161341Z
UID:1437-1774548000-1774555200@troop2statenisland.com
SUMMARY:🐾 Cub Scouts Arrow of Light Crossover & Pack Meeting 🏆
DESCRIPTION: Arrow of Light Scouts cross over to Scouts BSA in a special ceremony during the Pack Meeting.
URL:https://troop2statenisland.com/event/%f0%9f%90%be-cub-scouts-arrow-of-light-crossover-pack-meeting-%f0%9f%8f%86/
LOCATION:Immanuel Union Church\, 693 Jewett Ave\, Staten Island\, New York\, 10314
ORGANIZER;CN="Brian Levinsky":MAILTO:pack2.GNYC@gmail.com
END:VEVENT
BEGIN:VEVENT
DTSTART;TZID=America/New_York:20260331T193000
DTEND;TZID=America/New_York:20260331T210000
DTSTAMP:20260423T151440
CREATED:20250711T131340Z
LAST-MODIFIED:20250711T131340Z
UID:1195-1774985400-1774990800@troop2statenisland.com
SUMMARY:🧭 Troop 2 General Meeting
DESCRIPTION:📋Weekly scout meeting covering planning\, activities\, and troop updates.
URL:https://troop2statenisland.com/event/%f0%9f%a7%ad-troop-2-general-meeting-17-8/
LOCATION:Immanuel Union Church\, 693 Jewett Ave\, Staten Island\, New York\, 10314
ORGANIZER;CN="Scoutmaster Joe Nerone":MAILTO:ukj518@gmail.com
END:VEVENT
BEGIN:VEVENT
DTSTART;TZID=America/New_York:20260407T000000
DTEND;TZID=America/New_York:20260407T235959
DTSTAMP:20260423T151440
CREATED:20260326T160641Z
LAST-MODIFIED:20260326T160642Z
UID:1889-1775520000-1775606399@troop2statenisland.com
SUMMARY:Shed Cleanup 🧹
DESCRIPTION:There will be no regular troop meeting on this date. Scouts and families are encouraged to come help clean out the troop shed. This is a great opportunity to support the troop and keep our equipment organized. Any amount of help is appreciated.
URL:https://troop2statenisland.com/event/shed-cleanup-%f0%9f%a7%b9/
LOCATION:Immanuel Union Church\, 693 Jewett Ave\, Staten Island\, New York\, 10314
ORGANIZER;CN="Scoutmaster Joe Nerone":MAILTO:ukj518@gmail.com
END:VEVENT
BEGIN:VEVENT
DTSTART;TZID=America/New_York:20260414T193000
DTEND;TZID=America/New_York:20260414T210000
DTSTAMP:20260423T151440
CREATED:20250711T131340Z
LAST-MODIFIED:20250711T131340Z
UID:1196-1776195000-1776200400@troop2statenisland.com
SUMMARY:🧭 Troop 2 General Meeting
DESCRIPTION:📋Weekly scout meeting covering planning\, activities\, and troop updates.
URL:https://troop2statenisland.com/event/%f0%9f%a7%ad-troop-2-general-meeting-17-9/
LOCATION:Immanuel Union Church\, 693 Jewett Ave\, Staten Island\, New York\, 10314
ORGANIZER;CN="Scoutmaster Joe Nerone":MAILTO:ukj518@gmail.com
END:VEVENT
BEGIN:VEVENT
DTSTART;TZID=America/New_York:20260414T210000
DTEND;TZID=America/New_York:20260414T220000
DTSTAMP:20260423T151440
CREATED:20250711T172616Z
LAST-MODIFIED:20250711T172616Z
UID:1238-1776200400-1776204000@troop2statenisland.com
SUMMARY:🧾 Troop 2 Committee Meeting
DESCRIPTION:Troop 2’s adult leaders and committee members will meet to discuss upcoming events\, fundraising\, advancement\, campouts\, and troop logistics. This is an important opportunity to help shape the direction of the troop and support the success of our scouts. \n\n\n\n👥 All registered committee members and interested parents are welcome to attend. \n\n\n\n📝 Agenda items may include: \n\n\n\n\nReview of recent activities\n\n\n\nPlanning future events (campouts\, service\, fundraisers)\n\n\n\nBudget and fundraising updates\n\n\n\nScout advancement and troop needs\n\n\n\n\nHave something you’d like to discuss? Email the Scoutmaster 24 hrs. in advance to add it to the agenda.
URL:https://troop2statenisland.com/event/%f0%9f%a7%be-troop-2-committee-meeting-5/
LOCATION:Immanuel Union Church\, 693 Jewett Ave\, Staten Island\, New York\, 10314
ORGANIZER;CN="Scoutmaster Joe Nerone":MAILTO:ukj518@gmail.com
END:VEVENT
BEGIN:VEVENT
DTSTART;TZID=America/New_York:20260418T100000
DTEND;TZID=America/New_York:20260418T113000
DTSTAMP:20260423T151440
CREATED:20260326T164707Z
LAST-MODIFIED:20260326T164708Z
UID:1906-1776506400-1776511800@troop2statenisland.com
SUMMARY:Cub Scouts-Art in the Park at Clay Pit Pond 🎨🌿
DESCRIPTION:Join Pack 2 for a creative outdoor experience at Clay Pit Pond Interpretive Center. Scouts will explore nature through sketching and painting along the trails while building skills connected to their Cub Scout adventures. \n\n\n\nThis trip supports rank-related activities\, including art\, creativity\, and nature exploration. \n\n\n\nFamilies are encouraged to attend and be part of the experience. Siblings are welcome.
URL:https://troop2statenisland.com/event/cub-scouts-art-in-the-park-at-clay-pit-pond-%f0%9f%8e%a8%f0%9f%8c%bf/
LOCATION:Clay Pit Pond State Park\, 2351 Veterans Rd W\, Staten Island\, New York\, 10309\, United States
ORGANIZER;CN="Rachael Bulla":MAILTO:pack2.gnyc@gmail.com
END:VEVENT
BEGIN:VEVENT
DTSTART;TZID=America/New_York:20260421T193000
DTEND;TZID=America/New_York:20260421T210000
DTSTAMP:20260423T151440
CREATED:20250711T131340Z
LAST-MODIFIED:20250711T131340Z
UID:1197-1776799800-1776805200@troop2statenisland.com
SUMMARY:🧭 Troop 2 General Meeting
DESCRIPTION:📋Weekly scout meeting covering planning\, activities\, and troop updates.
URL:https://troop2statenisland.com/event/%f0%9f%a7%ad-troop-2-general-meeting-17-10/
LOCATION:Immanuel Union Church\, 693 Jewett Ave\, Staten Island\, New York\, 10314
ORGANIZER;CN="Scoutmaster Joe Nerone":MAILTO:ukj518@gmail.com
END:VEVENT
BEGIN:VEVENT
DTSTART;TZID=America/New_York:20260424T160000
DTEND;TZID=America/New_York:20260426T100000
DTSTAMP:20260423T151440
CREATED:20260326T160836Z
LAST-MODIFIED:20260326T160838Z
UID:1891-1777046400-1777197600@troop2statenisland.com
SUMMARY:Shooting Sports Weekend 🎯
DESCRIPTION:Troop 2 will be attending Shooting Sports Weekend. Scouts will participate in supervised activities focused on safety\, skill building\, and outdoor experience. Final details\, packing list\, and permissions will be shared prior to the trip. If there are any changes to attendance\, notify leadership as soon as possible.
URL:https://troop2statenisland.com/event/shooting-sports-weekend-%f0%9f%8e%af/
LOCATION:Ten Mile River Scout Camp\, 1481 Crystal Lake Rd\, Narrowsburg\, 12764
ORGANIZER;CN="Scoutmaster Joe Nerone":MAILTO:ukj518@gmail.com
END:VEVENT
BEGIN:VEVENT
DTSTART;TZID=America/New_York:20260428T193000
DTEND;TZID=America/New_York:20260428T210000
DTSTAMP:20260423T151441
CREATED:20250711T131340Z
LAST-MODIFIED:20250711T131340Z
UID:1198-1777404600-1777410000@troop2statenisland.com
SUMMARY:🧭 Troop 2 General Meeting
DESCRIPTION:📋Weekly scout meeting covering planning\, activities\, and troop updates.
URL:https://troop2statenisland.com/event/%f0%9f%a7%ad-troop-2-general-meeting-17-11/
LOCATION:Immanuel Union Church\, 693 Jewett Ave\, Staten Island\, New York\, 10314
ORGANIZER;CN="Scoutmaster Joe Nerone":MAILTO:ukj518@gmail.com
END:VEVENT
BEGIN:VEVENT
DTSTART;TZID=America/New_York:20260430T180000
DTEND;TZID=America/New_York:20260430T190000
DTSTAMP:20260423T151441
CREATED:20251001T161456Z
LAST-MODIFIED:20251001T161458Z
UID:1439-1777572000-1777575600@troop2statenisland.com
SUMMARY:🐾 Cub Scouts Field Trip (TBT) & Pack Meeting 🌳
DESCRIPTION:Pack 2 Cub Scouts outing with Pack Meeting. Details to follow.
URL:https://troop2statenisland.com/event/%f0%9f%90%be-cub-scouts-field-trip-tbt-pack-meeting-%f0%9f%8c%b3/
LOCATION:New York
ORGANIZER;CN="Brian Levinsky":MAILTO:pack2.GNYC@gmail.com
END:VEVENT
BEGIN:VEVENT
DTSTART;TZID=America/New_York:20260501T173000
DTEND;TZID=America/New_York:20260503T100000
DTSTAMP:20260423T151441
CREATED:20250711T171422Z
LAST-MODIFIED:20260318T133324Z
UID:1225-1777656600-1777802400@troop2statenisland.com
SUMMARY:🏕️ Camporee 🏕️
DESCRIPTION:Join Troop 2 for an exciting Camporee weekend right here on Staten Island. Scouts will spend the weekend camping\, building skills\, and working together through fun and challenging activities. This is a great opportunity for teamwork\, leadership\, and outdoor adventure close to home. \n\n\n\n🛶 Activities include: \n\n\n\n\n⛺ Tent camping and campsite setup\n\n\n\n🔥 Campfire program and evening activities\n\n\n\n🧭 Scout skills and team challenges\n\n\n\n🥾 Hiking and outdoor exploration\n\n\n\n🏕️ Patrol-based competitions and games\n\n\n\n\n⚠️ Permission slips and waivers are required. \n\n\n\n🧥 Scouts must bring proper water footwear\, layered clothing\, and gear for both cold and wet conditions. Full packing list and final trip details will be shared closer to departure. \n\n\n\n🚗 Parent drivers may be needed to assist with transportation and gear shuttling.
URL:https://troop2statenisland.com/event/%f0%9f%8c%8a-rafting-weekend-ten-mile-river-scout-camps/
LOCATION:William H. Pouch\, 1465 Manor Rd\, Staten Island\, New York\, 10314\, United States
ORGANIZER;CN="Scoutmaster Joe Nerone":MAILTO:ukj518@gmail.com
END:VEVENT
BEGIN:VEVENT
DTSTART;TZID=America/New_York:20260505T193000
DTEND;TZID=America/New_York:20260505T210000
DTSTAMP:20260423T151441
CREATED:20250711T131340Z
LAST-MODIFIED:20250711T131340Z
UID:1199-1778009400-1778014800@troop2statenisland.com
SUMMARY:🧭 Troop 2 General Meeting
DESCRIPTION:📋Weekly scout meeting covering planning\, activities\, and troop updates.
URL:https://troop2statenisland.com/event/%f0%9f%a7%ad-troop-2-general-meeting-17-12/
LOCATION:Immanuel Union Church\, 693 Jewett Ave\, Staten Island\, New York\, 10314
ORGANIZER;CN="Scoutmaster Joe Nerone":MAILTO:ukj518@gmail.com
END:VEVENT
BEGIN:VEVENT
DTSTART;TZID=America/New_York:20260509T130000
DTEND;TZID=America/New_York:20260509T150000
DTSTAMP:20260423T151441
CREATED:20260326T165210Z
LAST-MODIFIED:20260326T165212Z
UID:1912-1778331600-1778338800@troop2statenisland.com
SUMMARY:Pack/Troop Trip-Fort Wadsworth 🏰🇺🇸
DESCRIPTION:Step back in time with Pack and Troop 2 during a guided visit to Fort Wadsworth. Scouts will explore historic forts\, participate in a private guided tour\, and learn about New York City’s regional history. This is a fun and educational experience designed to bring history to life for Scouts and their families. Families are encouraged to attend. Siblings are welcome. Join us for a day of learning\, exploration\, and discovery as Scouts experience history in a hands-on way.
URL:https://troop2statenisland.com/event/pack-troop-trip-fort-wadsworth-%f0%9f%8f%b0%f0%9f%87%ba%f0%9f%87%b8/
LOCATION:Fort Wadsworth\, 210 New York Ave.\, Staten Island\, New York\, United States
ORGANIZER;CN="Rachael Bulla":MAILTO:pack2.gnyc@gmail.com
END:VEVENT
BEGIN:VEVENT
DTSTART;TZID=America/New_York:20260512T193000
DTEND;TZID=America/New_York:20260512T210000
DTSTAMP:20260423T151441
CREATED:20250711T131340Z
LAST-MODIFIED:20250711T131340Z
UID:1200-1778614200-1778619600@troop2statenisland.com
SUMMARY:🧭 Troop 2 General Meeting
DESCRIPTION:📋Weekly scout meeting covering planning\, activities\, and troop updates.
URL:https://troop2statenisland.com/event/%f0%9f%a7%ad-troop-2-general-meeting-17-13/
LOCATION:Immanuel Union Church\, 693 Jewett Ave\, Staten Island\, New York\, 10314
ORGANIZER;CN="Scoutmaster Joe Nerone":MAILTO:ukj518@gmail.com
END:VEVENT
BEGIN:VEVENT
DTSTART;TZID=America/New_York:20260517T150000
DTEND;TZID=America/New_York:20260517T173000
DTSTAMP:20260423T151441
CREATED:20260326T134958Z
LAST-MODIFIED:20260326T135000Z
UID:1885-1779030000-1779039000@troop2statenisland.com
SUMMARY:Harry Potter Broadway Trip 🧙‍♂️✨
DESCRIPTION:Cub Scout families are invited to attend a special Broadway outing to see Harry Potter and the Cursed Child. Troop families are also welcome to join this shared event. This is a great opportunity for Scouts and families to enjoy a memorable show together. \n\n\n\nShow time is 3:00 PM. Seating will be in Dress Circle 2. \n\n\n\nTickets are $89 per person and include all fees. \n\n\n\nA block of seats has been reserved\, so early confirmation is important. Payment was due by March 25 to secure tickets. \n\n\n\nFamilies who signed up should prepare for an exciting day in the city. Transportation details and final reminders will be shared closer to the event.
URL:https://troop2statenisland.com/event/harry-potter-broadway-trip-%f0%9f%a7%99%e2%99%82%ef%b8%8f%e2%9c%a8/
LOCATION:Lyric Theater\, 214 W 43rd St\, NY\, New York\, 10036\, United States
ORGANIZER;CN="Scoutmaster Joe Nerone":MAILTO:ukj518@gmail.com
END:VEVENT
BEGIN:VEVENT
DTSTART;TZID=America/New_York:20260519T153000
DTEND;TZID=America/New_York:20260519T180000
DTSTAMP:20260423T151441
CREATED:20260326T161148Z
LAST-MODIFIED:20260326T161451Z
UID:1893-1779204600-1779213600@troop2statenisland.com
SUMMARY:Flag Placement at St. Peter’s Cemetery 🇺🇸
DESCRIPTION:Troop 2 will meet at St. Peter’s Cemetery to place flags on the graves of deceased veterans. This is an important service activity to honor those who served our country. Full uniform is expected. Additional details will follow.
URL:https://troop2statenisland.com/event/flag-placement-at-st-peters-cemetery-%f0%9f%87%ba%f0%9f%87%b8/
LOCATION:St. Peter’s Cemetery\, 52 Tyler Ave.\, Staten Island\, New York\, 10310\, United States
ORGANIZER;CN="Scoutmaster Joe Nerone":MAILTO:ukj518@gmail.com
END:VEVENT
BEGIN:VEVENT
DTSTART;TZID=America/New_York:20260519T193000
DTEND;TZID=America/New_York:20260519T210000
DTSTAMP:20260423T151441
CREATED:20250711T131340Z
LAST-MODIFIED:20250711T131340Z
UID:1201-1779219000-1779224400@troop2statenisland.com
SUMMARY:🧭 Troop 2 General Meeting
DESCRIPTION:📋Weekly scout meeting covering planning\, activities\, and troop updates.
URL:https://troop2statenisland.com/event/%f0%9f%a7%ad-troop-2-general-meeting-17-14/
LOCATION:Immanuel Union Church\, 693 Jewett Ave\, Staten Island\, New York\, 10314
ORGANIZER;CN="Scoutmaster Joe Nerone":MAILTO:ukj518@gmail.com
END:VEVENT
BEGIN:VEVENT
DTSTART;TZID=America/New_York:20260521T180000
DTEND;TZID=America/New_York:20260521T190000
DTSTAMP:20260423T151441
CREATED:20251001T161612Z
LAST-MODIFIED:20251001T161614Z
UID:1441-1779386400-1779390000@troop2statenisland.com
SUMMARY:🐾 Cub Scouts Rank Crossover & Pack Meeting 🎖️
DESCRIPTION:Cub Scouts advance in rank and are recognized at this Pack Meeting.
URL:https://troop2statenisland.com/event/%f0%9f%90%be-cub-scouts-rank-crossover-pack-meeting-%f0%9f%8e%96%ef%b8%8f/
LOCATION:Immanuel Union Church\, 693 Jewett Ave\, Staten Island\, New York\, 10314
ORGANIZER;CN="Brian Levinsky":MAILTO:pack2.GNYC@gmail.com
END:VEVENT
BEGIN:VEVENT
DTSTART;TZID=America/New_York:20260609T170000
DTEND;TZID=America/New_York:20260609T200000
DTSTAMP:20260423T151441
CREATED:20260326T161629Z
LAST-MODIFIED:20260326T161630Z
UID:1900-1781024400-1781035200@troop2statenisland.com
SUMMARY:Annual Flag Retirement Ceremony 🇺🇸
DESCRIPTION:Troop 2 will hold its annual flag retirement ceremony. This event teaches respect for the American flag and proper retirement procedures. Scouts will participate in the ceremony and reflect on its meaning.
URL:https://troop2statenisland.com/event/annual-flag-retirement-ceremony-%f0%9f%87%ba%f0%9f%87%b8/
LOCATION:Immanuel Union Church\, 693 Jewett Ave\, Staten Island\, New York\, 10314
ORGANIZER;CN="Scoutmaster Joe Nerone":MAILTO:ukj518@gmail.com
END:VEVENT
BEGIN:VEVENT
DTSTART;TZID=America/New_York:20260609T193000
DTEND;TZID=America/New_York:20260609T210000
DTSTAMP:20260423T151441
CREATED:20250711T131340Z
LAST-MODIFIED:20250711T131340Z
UID:1202-1781033400-1781038800@troop2statenisland.com
SUMMARY:🧭 Troop 2 General Meeting
DESCRIPTION:📋Weekly scout meeting covering planning\, activities\, and troop updates.
URL:https://troop2statenisland.com/event/%f0%9f%a7%ad-troop-2-general-meeting-17-15/
LOCATION:Immanuel Union Church\, 693 Jewett Ave\, Staten Island\, New York\, 10314
ORGANIZER;CN="Scoutmaster Joe Nerone":MAILTO:ukj518@gmail.com
END:VEVENT
BEGIN:VEVENT
DTSTART;TZID=America/New_York:20260609T210000
DTEND;TZID=America/New_York:20260609T220000
DTSTAMP:20260423T151441
CREATED:20250711T172616Z
LAST-MODIFIED:20250711T172949Z
UID:1233-1781038800-1781042400@troop2statenisland.com
SUMMARY:🧾 Troop 2 Committee Meeting
DESCRIPTION:Troop 2’s adult leaders and committee members will meet to discuss upcoming events\, fundraising\, advancement\, campouts\, and troop logistics. This is an important opportunity to help shape the direction of the troop and support the success of our scouts. \n\n\n\n👥 All registered committee members and interested parents are welcome to attend. \n\n\n\n📝 Agenda items may include: \n\n\n\n\nReview of recent activities\n\n\n\nPlanning future events (campouts\, service\, fundraisers)\n\n\n\nBudget and fundraising updates\n\n\n\nScout advancement and troop needs\n\n\n\n\nHave something you’d like to discuss? Email the Scoutmaster 24 hrs. in advance to add it to the agenda.
URL:https://troop2statenisland.com/event/%f0%9f%a7%be-troop-2-committee-meeting/
LOCATION:Immanuel Union Church\, 693 Jewett Ave\, Staten Island\, New York\, 10314
ORGANIZER;CN="Scoutmaster Joe Nerone":MAILTO:ukj518@gmail.com
END:VEVENT
BEGIN:VEVENT
DTSTART;TZID=America/New_York:20260616T180000
DTEND;TZID=America/New_York:20260616T210000
DTSTAMP:20260423T151441
CREATED:20250711T171758Z
LAST-MODIFIED:20250711T171803Z
UID:1228-1781632800-1781643600@troop2statenisland.com
SUMMARY:🇺🇸 Flag Retirement Ceremony
DESCRIPTION:Join Troop 2 for a respectful and meaningful Flag Retirement Ceremony as we honor the American flag and all it represents. This solemn event teaches scouts the importance of flag etiquette and provides an opportunity to retire worn or damaged U.S. flags with dignity. \n\n\n\n🔥 The ceremony will follow official flag retirement protocol\, including proper folding\, salutes\, and respectful disposal by fire. \n\n\n\n🎖️ Scouts will take active roles in the ceremony. This is an excellent opportunity to reflect on patriotism\, respect\, and service. \n\n\n\n👨‍👩‍👦 Families are welcome to attend and participate in honoring our nation’s flag. \n\n\n\n📦 Do you have a worn U.S. flag to retire? Bring it with you or drop it off in advance.
URL:https://troop2statenisland.com/event/%f0%9f%87%ba%f0%9f%87%b8-flag-retirement-ceremony/
LOCATION:Immanuel Union Church\, 693 Jewett Ave\, Staten Island\, New York\, 10314
ORGANIZER;CN="Scoutmaster Joe Nerone":MAILTO:ukj518@gmail.com
END:VEVENT
BEGIN:VEVENT
DTSTART;TZID=America/New_York:20260619T170000
DTEND;TZID=America/New_York:20260621T100000
DTSTAMP:20260423T151441
CREATED:20251001T161933Z
LAST-MODIFIED:20251001T161934Z
UID:1443-1781888400-1782036000@troop2statenisland.com
SUMMARY:🐾 Cub Scouts Father’s Day Camping Trip ⛺
DESCRIPTION: A special camping trip for Cub Scouts and their families in honor of Father’s Day.
URL:https://troop2statenisland.com/event/%f0%9f%90%be-cub-scouts-fathers-day-camping-trip-%e2%9b%ba/
LOCATION:Camp Pouch\, 1465 Manor Rd.\, Staten Island\, New York\, 10314\, United States
ORGANIZER;CN="Brian Levinsky":MAILTO:pack2.GNYC@gmail.com
END:VEVENT
BEGIN:VEVENT
DTSTART;TZID=America/New_York:20260623T180000
DTEND;TZID=America/New_York:20260623T210000
DTSTAMP:20260423T151441
CREATED:20250711T172254Z
LAST-MODIFIED:20250711T172259Z
UID:1231-1782237600-1782248400@troop2statenisland.com
SUMMARY:⚾ Troop 2 Baseball Game & End-of-Year Celebration
DESCRIPTION:Join Troop 2 as we wrap up the scouting year with a fun and festive evening at Northerleigh Park. \n\n\n\n⚾ Scouts will take the field for a friendly baseball game – and families are encouraged to cheer them on or join in! \n\n\n\n💦 Water guns welcome! Cool off with some splash-filled fun to celebrate the start of summer. \n\n\n\n🍽️ Dinner will be served – no need to pack food\, just come hungry and ready to celebrate! \n\n\n\n👨‍👩‍👧‍👦 Families are invited to attend and participate in the fun. \n\n\n\n📛 This informal outdoor event replaces our regular troop meeting. No uniforms needed – just good vibes\, scout spirit\, and sportsmanship!
URL:https://troop2statenisland.com/event/%e2%9a%be-troop-2-baseball-game-end-of-year-celebration/
LOCATION:New York
ORGANIZER;CN="Scoutmaster Joe Nerone":MAILTO:ukj518@gmail.com
END:VEVENT
BEGIN:VEVENT
DTSTART;TZID=America/New_York:20260726T080000
DTEND;TZID=America/New_York:20260801T170000
DTSTAMP:20260423T151441
CREATED:20260326T162126Z
LAST-MODIFIED:20260326T162127Z
UID:1902-1785052800-1785603600@troop2statenisland.com
SUMMARY:Goose Pond Summer Camp 🏕️
DESCRIPTION:Troop 2 will attend summer camp at Goose Pond. This week-long experience includes merit badges\, outdoor activities\, and troop bonding. \n\n\n\nThe permission slip is available on the troop website for easy access. A completed permission slip and deposit are required to secure a spot.
URL:https://troop2statenisland.com/event/goose-pond-summer-camp-%f0%9f%8f%95%ef%b8%8f/
LOCATION:Goose Pond Scout Reservation\, 1047 Goose Pond Road\, Lake Ariel\, Pennsylvania\, 18436\, United States
ORGANIZER;CN="Scoutmaster Joe Nerone":MAILTO:ukj518@gmail.com
END:VEVENT
END:VCALENDAR