BEGIN:VCALENDAR
VERSION:2.0
PRODID:-//Troop 2 Staten Island - ECPv6.15.20//NONSGML v1.0//EN
CALSCALE:GREGORIAN
METHOD:PUBLISH
X-WR-CALNAME:Troop 2 Staten Island
X-ORIGINAL-URL:https://troop2statenisland.com
X-WR-CALDESC:Events for Troop 2 Staten Island
REFRESH-INTERVAL;VALUE=DURATION:PT1H
X-Robots-Tag:noindex
X-PUBLISHED-TTL:PT1H
BEGIN:VTIMEZONE
TZID:America/New_York
BEGIN:DAYLIGHT
TZOFFSETFROM:-0500
TZOFFSETTO:-0400
TZNAME:EDT
DTSTART:20240310T070000
END:DAYLIGHT
BEGIN:STANDARD
TZOFFSETFROM:-0400
TZOFFSETTO:-0500
TZNAME:EST
DTSTART:20241103T060000
END:STANDARD
BEGIN:DAYLIGHT
TZOFFSETFROM:-0500
TZOFFSETTO:-0400
TZNAME:EDT
DTSTART:20250309T070000
END:DAYLIGHT
BEGIN:STANDARD
TZOFFSETFROM:-0400
TZOFFSETTO:-0500
TZNAME:EST
DTSTART:20251102T060000
END:STANDARD
BEGIN:DAYLIGHT
TZOFFSETFROM:-0500
TZOFFSETTO:-0400
TZNAME:EDT
DTSTART:20260308T070000
END:DAYLIGHT
BEGIN:STANDARD
TZOFFSETFROM:-0400
TZOFFSETTO:-0500
TZNAME:EST
DTSTART:20261101T060000
END:STANDARD
BEGIN:DAYLIGHT
TZOFFSETFROM:-0500
TZOFFSETTO:-0400
TZNAME:EDT
DTSTART:20270314T070000
END:DAYLIGHT
BEGIN:STANDARD
TZOFFSETFROM:-0400
TZOFFSETTO:-0500
TZNAME:EST
DTSTART:20271107T060000
END:STANDARD
END:VTIMEZONE
BEGIN:VEVENT
DTSTART;TZID=America/New_York:20260317T193000
DTEND;TZID=America/New_York:20260317T210000
DTSTAMP:20260423T163025
CREATED:20250711T131340Z
LAST-MODIFIED:20250711T131340Z
UID:1193-1773775800-1773781200@troop2statenisland.com
SUMMARY:🧭 Troop 2 General Meeting
DESCRIPTION:📋Weekly scout meeting covering planning\, activities\, and troop updates.
URL:https://troop2statenisland.com/event/%f0%9f%a7%ad-troop-2-general-meeting-17-6/
LOCATION:Immanuel Union Church\, 693 Jewett Ave\, Staten Island\, New York\, 10314
ORGANIZER;CN="Scoutmaster Joe Nerone":MAILTO:ukj518@gmail.com
END:VEVENT
BEGIN:VEVENT
DTSTART;TZID=America/New_York:20260310T193000
DTEND;TZID=America/New_York:20260310T210000
DTSTAMP:20260423T163025
CREATED:20250711T131340Z
LAST-MODIFIED:20250711T131340Z
UID:1192-1773171000-1773176400@troop2statenisland.com
SUMMARY:🧭 Troop 2 General Meeting
DESCRIPTION:📋Weekly scout meeting covering planning\, activities\, and troop updates.
URL:https://troop2statenisland.com/event/%f0%9f%a7%ad-troop-2-general-meeting-17-5/
LOCATION:Immanuel Union Church\, 693 Jewett Ave\, Staten Island\, New York\, 10314
ORGANIZER;CN="Scoutmaster Joe Nerone":MAILTO:ukj518@gmail.com
END:VEVENT
BEGIN:VEVENT
DTSTART;TZID=America/New_York:20260303T193000
DTEND;TZID=America/New_York:20260303T210000
DTSTAMP:20260423T163025
CREATED:20250711T131340Z
LAST-MODIFIED:20250711T131340Z
UID:1191-1772566200-1772571600@troop2statenisland.com
SUMMARY:🧭 Troop 2 General Meeting
DESCRIPTION:📋Weekly scout meeting covering planning\, activities\, and troop updates.
URL:https://troop2statenisland.com/event/%f0%9f%a7%ad-troop-2-general-meeting-17-4/
LOCATION:Immanuel Union Church\, 693 Jewett Ave\, Staten Island\, New York\, 10314
ORGANIZER;CN="Scoutmaster Joe Nerone":MAILTO:ukj518@gmail.com
END:VEVENT
BEGIN:VEVENT
DTSTART;TZID=America/New_York:20260228T180000
DTEND;TZID=America/New_York:20260228T203000
DTSTAMP:20260423T163025
CREATED:20251001T161113Z
LAST-MODIFIED:20251001T161116Z
UID:1435-1772301600-1772310600@troop2statenisland.com
SUMMARY:🐾 Cub Scouts Blue and Gold Banquet 🎂
DESCRIPTION:Celebrate Pack 2 Cub Scouts at the annual Blue & Gold Banquet with awards\, food\, and family fun.
URL:https://troop2statenisland.com/event/%f0%9f%90%be-cub-scouts-blue-and-gold-banquet-%f0%9f%8e%82/
LOCATION:Immanuel Union Church\, 693 Jewett Ave\, Staten Island\, New York\, 10314
ORGANIZER;CN="Brian Levinsky":MAILTO:pack2.GNYC@gmail.com
END:VEVENT
BEGIN:VEVENT
DTSTART;TZID=America/New_York:20260224T193000
DTEND;TZID=America/New_York:20260224T210000
DTSTAMP:20260423T163025
CREATED:20250711T131340Z
LAST-MODIFIED:20250711T131340Z
UID:1190-1771961400-1771966800@troop2statenisland.com
SUMMARY:🧭 Troop 2 General Meeting
DESCRIPTION:📋Weekly scout meeting covering planning\, activities\, and troop updates.
URL:https://troop2statenisland.com/event/%f0%9f%a7%ad-troop-2-general-meeting-17-3/
LOCATION:Immanuel Union Church\, 693 Jewett Ave\, Staten Island\, New York\, 10314
ORGANIZER;CN="Scoutmaster Joe Nerone":MAILTO:ukj518@gmail.com
END:VEVENT
BEGIN:VEVENT
DTSTART;TZID=America/New_York:20260217T193000
DTEND;TZID=America/New_York:20260217T210000
DTSTAMP:20260423T163025
CREATED:20250711T131340Z
LAST-MODIFIED:20250711T161055Z
UID:1165-1771356600-1771362000@troop2statenisland.com
SUMMARY:🧭 Troop 2 General Meeting (Tentative)
DESCRIPTION:📋Weekly scout meeting covering planning\, activities\, and troop updates.
URL:https://troop2statenisland.com/event/%f0%9f%a7%ad-troop-2-general-meeting/
LOCATION:Immanuel Union Church\, 693 Jewett Ave\, Staten Island\, New York\, 10314
ORGANIZER;CN="Scoutmaster Joe Nerone":MAILTO:ukj518@gmail.com
END:VEVENT
BEGIN:VEVENT
DTSTART;TZID=America/New_York:20260210T210000
DTEND;TZID=America/New_York:20260210T220000
DTSTAMP:20260423T163025
CREATED:20250711T172616Z
LAST-MODIFIED:20250711T172616Z
UID:1237-1770757200-1770760800@troop2statenisland.com
SUMMARY:🧾 Troop 2 Committee Meeting
DESCRIPTION:Troop 2’s adult leaders and committee members will meet to discuss upcoming events\, fundraising\, advancement\, campouts\, and troop logistics. This is an important opportunity to help shape the direction of the troop and support the success of our scouts. \n\n\n\n👥 All registered committee members and interested parents are welcome to attend. \n\n\n\n📝 Agenda items may include: \n\n\n\n\nReview of recent activities\n\n\n\nPlanning future events (campouts\, service\, fundraisers)\n\n\n\nBudget and fundraising updates\n\n\n\nScout advancement and troop needs\n\n\n\n\nHave something you’d like to discuss? Email the Scoutmaster 24 hrs. in advance to add it to the agenda.
URL:https://troop2statenisland.com/event/%f0%9f%a7%be-troop-2-committee-meeting-4/
LOCATION:Immanuel Union Church\, 693 Jewett Ave\, Staten Island\, New York\, 10314
ORGANIZER;CN="Scoutmaster Joe Nerone":MAILTO:ukj518@gmail.com
END:VEVENT
BEGIN:VEVENT
DTSTART;TZID=America/New_York:20260210T193000
DTEND;TZID=America/New_York:20260210T210000
DTSTAMP:20260423T163025
CREATED:20250711T131340Z
LAST-MODIFIED:20250711T131340Z
UID:1188-1770751800-1770757200@troop2statenisland.com
SUMMARY:🧭 Troop 2 General Meeting
DESCRIPTION:📋Weekly scout meeting covering planning\, activities\, and troop updates.
URL:https://troop2statenisland.com/event/%f0%9f%a7%ad-troop-2-general-meeting-17-2/
LOCATION:Immanuel Union Church\, 693 Jewett Ave\, Staten Island\, New York\, 10314
ORGANIZER;CN="Scoutmaster Joe Nerone":MAILTO:ukj518@gmail.com
END:VEVENT
BEGIN:VEVENT
DTSTART;TZID=America/New_York:20260208T090000
DTEND;TZID=America/New_York:20260208T113000
DTSTAMP:20260423T163025
CREATED:20251001T160937Z
LAST-MODIFIED:20251001T160938Z
UID:1433-1770541200-1770550200@troop2statenisland.com
SUMMARY:🐾 Cub Scouts - Scout Sunday 🙏
DESCRIPTION:Cub Scouts participate in Scout Sunday\, honoring the Scout Law and faith traditions.
URL:https://troop2statenisland.com/event/%f0%9f%90%be-cub-scouts-scout-sunday-%f0%9f%99%8f/
LOCATION:Immanuel Union Church\, 693 Jewett Ave\, Staten Island\, New York\, 10314
ORGANIZER;CN="Brian Levinsky":MAILTO:pack2.GNYC@gmail.com
END:VEVENT
BEGIN:VEVENT
DTSTART;TZID=America/New_York:20260130T173000
DTEND;TZID=America/New_York:20260201T100000
DTSTAMP:20260423T163025
CREATED:20250711T170512Z
LAST-MODIFIED:20250711T170519Z
UID:1221-1769794200-1769940000@troop2statenisland.com
SUMMARY:❄️ Troop 2 Winter Weekend - Goose Pond Scout Reservation
DESCRIPTION:Bundle up for Troop 2’s annual Winter Weekend at Goose Pond Scout Reservation! Scouts will enjoy a weekend of outdoor adventure\, team-building\, cold-weather camping\, and scout skills in a scenic mountain setting. \n\n\n\n🏕️ Activities may include: winter hiking\, fire building\, shelter construction\, and indoor/outdoor patrol competitions (weather permitting). This is an excellent opportunity for scouts to build resilience and camaraderie. \n\n\n\n🧣 Scouts should pack for cold weather\, including thermal layers\, gloves\, hats\, sleeping gear rated for winter temperatures\, and waterproof boots. A full packing list will be provided in advance. \n\n\n\n🚗 Carpooling will be coordinated closer to the trip date.
URL:https://troop2statenisland.com/event/%e2%9d%84%ef%b8%8f-troop-2-winter-weekend-goose-pond-scout-reservation/
LOCATION:New York
ORGANIZER;CN="Scoutmaster Joe Nerone":MAILTO:ukj518@gmail.com
END:VEVENT
BEGIN:VEVENT
DTSTART;TZID=America/New_York:20260127T193000
DTEND;TZID=America/New_York:20260127T210000
DTSTAMP:20260423T163025
CREATED:20250711T131340Z
LAST-MODIFIED:20250711T131340Z
UID:1185-1769542200-1769547600@troop2statenisland.com
SUMMARY:🧭 Troop 2 General Meeting
DESCRIPTION:📋Weekly scout meeting covering planning\, activities\, and troop updates.
URL:https://troop2statenisland.com/event/%f0%9f%a7%ad-troop-2-general-meeting-16/
LOCATION:Immanuel Union Church\, 693 Jewett Ave\, Staten Island\, New York\, 10314
ORGANIZER;CN="Scoutmaster Joe Nerone":MAILTO:ukj518@gmail.com
END:VEVENT
BEGIN:VEVENT
DTSTART;TZID=America/New_York:20260124T100000
DTEND;TZID=America/New_York:20260124T120000
DTSTAMP:20260423T163025
CREATED:20251001T160803Z
LAST-MODIFIED:20251001T160805Z
UID:1431-1769248800-1769256000@troop2statenisland.com
SUMMARY:🐾 Cub Scouts Pinewood Derby 🏎️
DESCRIPTION:Race day! Cub Scouts compete in the annual Pinewood Derby. Friends and family welcome!
URL:https://troop2statenisland.com/event/%f0%9f%90%be-cub-scouts-pinewood-derby-%f0%9f%8f%8e%ef%b8%8f/
LOCATION:Immanuel Union Church\, 693 Jewett Ave\, Staten Island\, New York\, 10314
ORGANIZER;CN="Brian Levinsky":MAILTO:pack2.GNYC@gmail.com
END:VEVENT
BEGIN:VEVENT
DTSTART;TZID=America/New_York:20260120T193000
DTEND;TZID=America/New_York:20260120T210000
DTSTAMP:20260423T163025
CREATED:20250711T131340Z
LAST-MODIFIED:20250711T131340Z
UID:1184-1768937400-1768942800@troop2statenisland.com
SUMMARY:🧭 Troop 2 General Meeting
DESCRIPTION:📋Weekly scout meeting covering planning\, activities\, and troop updates.
URL:https://troop2statenisland.com/event/%f0%9f%a7%ad-troop-2-general-meeting-15/
LOCATION:Immanuel Union Church\, 693 Jewett Ave\, Staten Island\, New York\, 10314
ORGANIZER;CN="Scoutmaster Joe Nerone":MAILTO:ukj518@gmail.com
END:VEVENT
BEGIN:VEVENT
DTSTART;TZID=America/New_York:20260115T180000
DTEND;TZID=America/New_York:20260115T190000
DTSTAMP:20260423T163025
CREATED:20251001T160627Z
LAST-MODIFIED:20251001T160629Z
UID:1429-1768500000-1768503600@troop2statenisland.com
SUMMARY:🐾 Cub Scouts Pinewood Derby Workshop 🛠️
DESCRIPTION:Cub Scouts build and prepare their Pinewood Derby cars at this workshop event.
URL:https://troop2statenisland.com/event/%f0%9f%90%be-cub-scouts-pinewood-derby-workshop-%f0%9f%9b%a0%ef%b8%8f/
LOCATION:Immanuel Union Church\, 693 Jewett Ave\, Staten Island\, New York\, 10314
ORGANIZER;CN="Brian Levinsky":MAILTO:pack2.GNYC@gmail.com
END:VEVENT
BEGIN:VEVENT
DTSTART;TZID=America/New_York:20260113T193000
DTEND;TZID=America/New_York:20260113T210000
DTSTAMP:20260423T163025
CREATED:20250711T131340Z
LAST-MODIFIED:20250711T131340Z
UID:1183-1768332600-1768338000@troop2statenisland.com
SUMMARY:🧭 Troop 2 General Meeting
DESCRIPTION:📋Weekly scout meeting covering planning\, activities\, and troop updates.
URL:https://troop2statenisland.com/event/%f0%9f%a7%ad-troop-2-general-meeting-14/
LOCATION:Immanuel Union Church\, 693 Jewett Ave\, Staten Island\, New York\, 10314
ORGANIZER;CN="Scoutmaster Joe Nerone":MAILTO:ukj518@gmail.com
END:VEVENT
BEGIN:VEVENT
DTSTART;TZID=America/New_York:20260106T193000
DTEND;TZID=America/New_York:20260106T210000
DTSTAMP:20260423T163025
CREATED:20250711T131340Z
LAST-MODIFIED:20250711T131340Z
UID:1182-1767727800-1767733200@troop2statenisland.com
SUMMARY:🧭 Troop 2 General Meeting
DESCRIPTION:📋Weekly scout meeting covering planning\, activities\, and troop updates.
URL:https://troop2statenisland.com/event/%f0%9f%a7%ad-troop-2-general-meeting-13/
LOCATION:Immanuel Union Church\, 693 Jewett Ave\, Staten Island\, New York\, 10314
ORGANIZER;CN="Scoutmaster Joe Nerone":MAILTO:ukj518@gmail.com
END:VEVENT
BEGIN:VEVENT
DTSTART;TZID=America/New_York:20251218T180000
DTEND;TZID=America/New_York:20251218T200000
DTSTAMP:20260423T163025
CREATED:20251001T160441Z
LAST-MODIFIED:20251001T160443Z
UID:1427-1766080800-1766088000@troop2statenisland.com
SUMMARY:🐾 Cub Scouts Holiday Party & Pack Meeting 🎁
DESCRIPTION:Celebrate the season with Cub Scouts Pack 2 at our holiday party and Pack Meeting.
URL:https://troop2statenisland.com/event/%f0%9f%90%be-cub-scouts-holiday-party-pack-meeting-%f0%9f%8e%81/
LOCATION:Immanuel Union Church\, 693 Jewett Ave\, Staten Island\, New York\, 10314
ORGANIZER;CN="Brian Levinsky":MAILTO:pack2.GNYC@gmail.com
END:VEVENT
BEGIN:VEVENT
DTSTART;TZID=America/New_York:20251216T180000
DTEND;TZID=America/New_York:20251216T210000
DTSTAMP:20260423T163025
CREATED:20250711T165918Z
LAST-MODIFIED:20250711T165920Z
UID:1219-1765908000-1765918800@troop2statenisland.com
SUMMARY:🎄 Troop 2 Christmas Party\, Dinner & Court of Honor
DESCRIPTION:Celebrate the holiday season with Troop 2 at our annual Christmas Party and Court of Honor! 🎉🎖️ \n\n\n\nEnjoy a festive evening with dinner\, music\, and fellowship as we recognize the achievements of our scouts and share the holiday spirit together. This is a great opportunity for families to come together and reflect on the accomplishments of the season. \n\n\n\n🍽️ Dinner will be served \n\n\n\n🎖️ Scouts will be presented with rank advancements and merit badges \n\n\n\n🎁 Fun\, food\, and cheer for the whole family! \n\n\n\n👨‍👩‍👧‍👦 Families are warmly invited – please join us in celebrating your scout’s progress! \n\n\n\n🧥 Class A uniforms required for all scouts.
URL:https://troop2statenisland.com/event/%f0%9f%8e%84-troop-2-christmas-party-dinner-court-of-honor/
LOCATION:Immanuel Union Church\, 693 Jewett Ave\, Staten Island\, New York\, 10314
ORGANIZER;CN="Scoutmaster Joe Nerone":MAILTO:ukj518@gmail.com
END:VEVENT
BEGIN:VEVENT
DTSTART;TZID=America/New_York:20251209T193000
DTEND;TZID=America/New_York:20251209T210000
DTSTAMP:20260423T163025
CREATED:20250711T131340Z
LAST-MODIFIED:20250711T131340Z
UID:1181-1765308600-1765314000@troop2statenisland.com
SUMMARY:🧭 Troop 2 General Meeting
DESCRIPTION:📋Weekly scout meeting covering planning\, activities\, and troop updates.
URL:https://troop2statenisland.com/event/%f0%9f%a7%ad-troop-2-general-meeting-12/
LOCATION:Immanuel Union Church\, 693 Jewett Ave\, Staten Island\, New York\, 10314
ORGANIZER;CN="Scoutmaster Joe Nerone":MAILTO:ukj518@gmail.com
END:VEVENT
BEGIN:VEVENT
DTSTART;TZID=America/New_York:20251206T080000
DTEND;TZID=America/New_York:20251206T170000
DTSTAMP:20260423T163025
CREATED:20250711T165547Z
LAST-MODIFIED:20250711T165550Z
UID:1217-1765008000-1765040400@troop2statenisland.com
SUMMARY:🌲 Troop 2 Holiday Wreath Sale
DESCRIPTION:Support Troop 2 by purchasing a beautifully decorated holiday wreath! Our scouts will be selling wreaths throughout the community to help raise funds for camping trips\, equipment\, and events. \n\n\n\n🌟 Each wreath is handcrafted with care during our wreath decorating night and makes the perfect addition to your holiday décor. \n\n\n\n💰 All proceeds go directly to supporting Troop 2 activities. \n\n\n\n🧢 Scouts will be assigned to shifts – stay tuned for time and location details. \n\n\n\n👨‍👩‍👦 Families are welcome to assist.
URL:https://troop2statenisland.com/event/%f0%9f%8c%b2-troop-2-holiday-wreath-sale/
LOCATION:Immanuel Union Church\, 693 Jewett Ave\, Staten Island\, New York\, 10314
ORGANIZER;CN="Scoutmaster Joe Nerone":MAILTO:ukj518@gmail.com
END:VEVENT
BEGIN:VEVENT
DTSTART;TZID=America/New_York:20251206T080000
DTEND;TZID=America/New_York:20251206T170000
DTSTAMP:20260423T163025
CREATED:20251001T160309Z
LAST-MODIFIED:20251001T160310Z
UID:1425-1765008000-1765040400@troop2statenisland.com
SUMMARY:🐾 Cub Scouts & Troop 2 Wreath Sale 🎄
DESCRIPTION:Support Pack & Troop 2 Scouts by purchasing holiday wreaths.
URL:https://troop2statenisland.com/event/%f0%9f%90%be-cub-scouts-troop-2-wreath-sale-%f0%9f%8e%84/
LOCATION:Immanuel Union Church\, 693 Jewett Ave\, Staten Island\, New York\, 10314
ORGANIZER;CN="Scoutmaster Joe Nerone":MAILTO:ukj518@gmail.com
END:VEVENT
BEGIN:VEVENT
DTSTART;TZID=America/New_York:20251202T210000
DTEND;TZID=America/New_York:20251202T220000
DTSTAMP:20260423T163025
CREATED:20250711T172616Z
LAST-MODIFIED:20250711T172616Z
UID:1236-1764709200-1764712800@troop2statenisland.com
SUMMARY:🧾 Troop 2 Committee Meeting
DESCRIPTION:Troop 2’s adult leaders and committee members will meet to discuss upcoming events\, fundraising\, advancement\, campouts\, and troop logistics. This is an important opportunity to help shape the direction of the troop and support the success of our scouts. \n\n\n\n👥 All registered committee members and interested parents are welcome to attend. \n\n\n\n📝 Agenda items may include: \n\n\n\n\nReview of recent activities\n\n\n\nPlanning future events (campouts\, service\, fundraisers)\n\n\n\nBudget and fundraising updates\n\n\n\nScout advancement and troop needs\n\n\n\n\nHave something you’d like to discuss? Email the Scoutmaster 24 hrs. in advance to add it to the agenda.
URL:https://troop2statenisland.com/event/%f0%9f%a7%be-troop-2-committee-meeting-3/
LOCATION:Immanuel Union Church\, 693 Jewett Ave\, Staten Island\, New York\, 10314
ORGANIZER;CN="Scoutmaster Joe Nerone":MAILTO:ukj518@gmail.com
END:VEVENT
BEGIN:VEVENT
DTSTART;TZID=America/New_York:20251202T193000
DTEND;TZID=America/New_York:20251202T210000
DTSTAMP:20260423T163025
CREATED:20250711T131340Z
LAST-MODIFIED:20250711T131340Z
UID:1180-1764703800-1764709200@troop2statenisland.com
SUMMARY:🧭 Troop 2 General Meeting
DESCRIPTION:📋Weekly scout meeting covering planning\, activities\, and troop updates.
URL:https://troop2statenisland.com/event/%f0%9f%a7%ad-troop-2-general-meeting-11/
LOCATION:Immanuel Union Church\, 693 Jewett Ave\, Staten Island\, New York\, 10314
ORGANIZER;CN="Scoutmaster Joe Nerone":MAILTO:ukj518@gmail.com
END:VEVENT
BEGIN:VEVENT
DTSTART;TZID=America/New_York:20251125T180000
DTEND;TZID=America/New_York:20251125T210000
DTSTAMP:20260423T163025
CREATED:20250711T165238Z
LAST-MODIFIED:20250711T165241Z
UID:1215-1764093600-1764104400@troop2statenisland.com
SUMMARY:🎄 Wreath Decorating & Pizza Party
DESCRIPTION:Join Troop 2 for a festive evening of wreath decorating and pizza as we prepare for our annual holiday fundraiser! Decorated wreaths will be sold to help support troop activities\, outings\, and supplies. \n\n\n\n🎨 Scouts and families will work together to create beautiful holiday wreaths. All materials will be provided – just bring your creativity and holiday spirit! \n\n\n\n🍕 Enjoy pizza and light refreshments while decorating and socializing with fellow scout families. \n\n\n\n👨‍👩‍👧‍👦 Families are welcome and encouraged to attend and help decorate!
URL:https://troop2statenisland.com/event/%f0%9f%8e%84-wreath-decorating-pizza-party/
LOCATION:Immanuel Union Church\, 693 Jewett Ave\, Staten Island\, New York\, 10314
ORGANIZER;CN="Scoutmaster Joe Nerone":MAILTO:ukj518@gmail.com
END:VEVENT
BEGIN:VEVENT
DTSTART;TZID=America/New_York:20251123T090000
DTEND;TZID=America/New_York:20251123T120000
DTSTAMP:20260423T163025
CREATED:20250711T164849Z
LAST-MODIFIED:20250711T164852Z
UID:1211-1763888400-1763899200@troop2statenisland.com
SUMMARY:🛍️ Troop 2 Food Drive – Pickup Day
DESCRIPTION:Scouts will be assigned to specific streets and blocks to canvass and collect food donations left on porches. Donated bags should be clearly marked with the Troop 2 food drive sign that was distributed earlier in the week. All collected food will be brought to a local food bank for donation. \n\n\n\n🚗 Parent Volunteers Needed: \n\n\n\nWe are asking for parent drivers to assist with: \n\n\n\n\nTransporting scouts to their assigned blocks\n\n\n\nDriving collected food to the designated food bank drop-off location\n\n\n\n\n🧤 Dress appropriately for the weather and bring gloves for safe handling of donation bags. \n\n\n\n📛 Service hours will be awarded to participating scouts. \n\n\n\n🙌 Thank you for your support in helping us make a difference in the community this holiday season!
URL:https://troop2statenisland.com/event/%f0%9f%9b%8d%ef%b8%8f-troop-2-food-drive-pickup-day/
LOCATION:Immanuel Union Church\, 693 Jewett Ave\, Staten Island\, New York\, 10314
ORGANIZER;CN="Scoutmaster Joe Nerone":MAILTO:ukj518@gmail.com
END:VEVENT
BEGIN:VEVENT
DTSTART;TZID=America/New_York:20251120T180000
DTEND;TZID=America/New_York:20251120T190000
DTSTAMP:20260423T163025
CREATED:20251001T160059Z
LAST-MODIFIED:20251001T160101Z
UID:1423-1763661600-1763665200@troop2statenisland.com
SUMMARY:🐾 Cub Scouts Food Drive & Pack Meeting 🥫
DESCRIPTION:Cub Scouts will host a community food drive followed by Pack Meeting. Bring a donation to help families in need.
URL:https://troop2statenisland.com/event/%f0%9f%90%be-cub-scouts-food-drive-pack-meeting-%f0%9f%a5%ab/
LOCATION:Immanuel Union Church\, 693 Jewett Ave\, Staten Island\, New York\, 10314
ORGANIZER;CN="Brian Levinsky":MAILTO:pack2.GNYC@gmail.com
END:VEVENT
BEGIN:VEVENT
DTSTART;TZID=America/New_York:20251118T193000
DTEND;TZID=America/New_York:20251118T210000
DTSTAMP:20260423T163025
CREATED:20250711T131340Z
LAST-MODIFIED:20250711T131340Z
UID:1179-1763494200-1763499600@troop2statenisland.com
SUMMARY:🧭 Troop 2 General Meeting
DESCRIPTION:📋Weekly scout meeting covering planning\, activities\, and troop updates.
URL:https://troop2statenisland.com/event/%f0%9f%a7%ad-troop-2-general-meeting-10/
LOCATION:Immanuel Union Church\, 693 Jewett Ave\, Staten Island\, New York\, 10314
ORGANIZER;CN="Scoutmaster Joe Nerone":MAILTO:ukj518@gmail.com
END:VEVENT
BEGIN:VEVENT
DTSTART;TZID=America/New_York:20251118T180000
DTEND;TZID=America/New_York:20251118T193000
DTSTAMP:20260423T163025
CREATED:20250711T142222Z
LAST-MODIFIED:20250711T142224Z
UID:1177-1763488800-1763494200@troop2statenisland.com
SUMMARY:🥫Food Drive Flyer distribution (Westerleigh)
DESCRIPTION:We will meet at the church.  Boys will walk the area distributing the flyers.  Our weekly meeting will follow.  Class A required.
URL:https://troop2statenisland.com/event/%f0%9f%a5%abfood-drive-flyer-distribution-westerleigh/
LOCATION:Immanuel Union Church\, 693 Jewett Ave\, Staten Island\, New York\, 10314
ORGANIZER;CN="Scoutmaster Joe Nerone":MAILTO:ukj518@gmail.com
END:VEVENT
BEGIN:VEVENT
DTSTART;TZID=America/New_York:20251114T190000
DTEND;TZID=America/New_York:20251114T230000
DTSTAMP:20260423T163025
CREATED:20250711T164320Z
LAST-MODIFIED:20250711T164323Z
UID:1209-1763146800-1763161200@troop2statenisland.com
SUMMARY:🎉 Radio Bingo
DESCRIPTION:It’s Bingo Night with a twist — just for adults! Join us for Radio Bingo\, where hit songs take the place of traditional numbers. Enjoy an evening of music\, laughs\, raffles\, and great company. This is an adults-only event. \n\n\n\n🎟️ Price: TBD (check back soon for ticket info) \n\n\n\n🎁 Raffles & prizes throughout the night \n\n\n\n🍿 Light refreshments will be served
URL:https://troop2statenisland.com/event/%f0%9f%8e%89-radio-bingo/
LOCATION:Immanuel Union Church\, 693 Jewett Ave\, Staten Island\, New York\, 10314
END:VEVENT
BEGIN:VEVENT
DTSTART;TZID=America/New_York:20251114T190000
DTEND;TZID=America/New_York:20251114T230000
DTSTAMP:20260423T163025
CREATED:20251001T155858Z
LAST-MODIFIED:20251001T155900Z
UID:1421-1763146800-1763161200@troop2statenisland.com
SUMMARY:🎶 Radio Bingo (Adult's only) 🎤
DESCRIPTION:Join us for a fun evening of Radio Bingo! 🎶 There will be exciting raffles and light refreshments available. All proceeds help support our Scouts. Adults only.
URL:https://troop2statenisland.com/event/%f0%9f%8e%b6-radio-bingo-adults-only-%f0%9f%8e%a4/
LOCATION:Immanuel Union Church\, 693 Jewett Ave\, Staten Island\, New York\, 10314
ORGANIZER;CN="Scoutmaster Joe Nerone":MAILTO:ukj518@gmail.com
END:VEVENT
END:VCALENDAR