BEGIN:VCALENDAR
VERSION:2.0
PRODID:-//Troop 2 Staten Island - ECPv6.15.20//NONSGML v1.0//EN
CALSCALE:GREGORIAN
METHOD:PUBLISH
X-ORIGINAL-URL:https://troop2statenisland.com
X-WR-CALDESC:Events for Troop 2 Staten Island
REFRESH-INTERVAL;VALUE=DURATION:PT1H
X-Robots-Tag:noindex
X-PUBLISHED-TTL:PT1H
BEGIN:VTIMEZONE
TZID:America/New_York
BEGIN:DAYLIGHT
TZOFFSETFROM:-0500
TZOFFSETTO:-0400
TZNAME:EDT
DTSTART:20250309T070000
END:DAYLIGHT
BEGIN:STANDARD
TZOFFSETFROM:-0400
TZOFFSETTO:-0500
TZNAME:EST
DTSTART:20251102T060000
END:STANDARD
BEGIN:DAYLIGHT
TZOFFSETFROM:-0500
TZOFFSETTO:-0400
TZNAME:EDT
DTSTART:20260308T070000
END:DAYLIGHT
BEGIN:STANDARD
TZOFFSETFROM:-0400
TZOFFSETTO:-0500
TZNAME:EST
DTSTART:20261101T060000
END:STANDARD
BEGIN:DAYLIGHT
TZOFFSETFROM:-0500
TZOFFSETTO:-0400
TZNAME:EDT
DTSTART:20270314T070000
END:DAYLIGHT
BEGIN:STANDARD
TZOFFSETFROM:-0400
TZOFFSETTO:-0500
TZNAME:EST
DTSTART:20271107T060000
END:STANDARD
END:VTIMEZONE
BEGIN:VEVENT
DTSTART;TZID=America/New_York:20260726T080000
DTEND;TZID=America/New_York:20260801T170000
DTSTAMP:20260423T161222
CREATED:20260326T162126Z
LAST-MODIFIED:20260326T162127Z
UID:1902-1785052800-1785603600@troop2statenisland.com
SUMMARY:Goose Pond Summer Camp 🏕️
DESCRIPTION:Troop 2 will attend summer camp at Goose Pond. This week-long experience includes merit badges\, outdoor activities\, and troop bonding. \n\n\n\nThe permission slip is available on the troop website for easy access. A completed permission slip and deposit are required to secure a spot.
URL:https://troop2statenisland.com/event/goose-pond-summer-camp-%f0%9f%8f%95%ef%b8%8f/
LOCATION:Goose Pond Scout Reservation\, 1047 Goose Pond Road\, Lake Ariel\, Pennsylvania\, 18436\, United States
ORGANIZER;CN="Scoutmaster Joe Nerone":MAILTO:ukj518@gmail.com
END:VEVENT
END:VCALENDAR