BEGIN:VCALENDAR
VERSION:2.0
PRODID:-//Troop 2 Staten Island - ECPv6.15.20//NONSGML v1.0//EN
CALSCALE:GREGORIAN
METHOD:PUBLISH
X-ORIGINAL-URL:https://troop2statenisland.com
X-WR-CALDESC:Events for Troop 2 Staten Island
REFRESH-INTERVAL;VALUE=DURATION:PT1H
X-Robots-Tag:noindex
X-PUBLISHED-TTL:PT1H
BEGIN:VTIMEZONE
TZID:America/New_York
BEGIN:DAYLIGHT
TZOFFSETFROM:-0500
TZOFFSETTO:-0400
TZNAME:EDT
DTSTART:20250309T070000
END:DAYLIGHT
BEGIN:STANDARD
TZOFFSETFROM:-0400
TZOFFSETTO:-0500
TZNAME:EST
DTSTART:20251102T060000
END:STANDARD
BEGIN:DAYLIGHT
TZOFFSETFROM:-0500
TZOFFSETTO:-0400
TZNAME:EDT
DTSTART:20260308T070000
END:DAYLIGHT
BEGIN:STANDARD
TZOFFSETFROM:-0400
TZOFFSETTO:-0500
TZNAME:EST
DTSTART:20261101T060000
END:STANDARD
BEGIN:DAYLIGHT
TZOFFSETFROM:-0500
TZOFFSETTO:-0400
TZNAME:EDT
DTSTART:20270314T070000
END:DAYLIGHT
BEGIN:STANDARD
TZOFFSETFROM:-0400
TZOFFSETTO:-0500
TZNAME:EST
DTSTART:20271107T060000
END:STANDARD
END:VTIMEZONE
BEGIN:VEVENT
DTSTART;TZID=America/New_York:20260616T180000
DTEND;TZID=America/New_York:20260616T210000
DTSTAMP:20260423T150309
CREATED:20250711T171758Z
LAST-MODIFIED:20250711T171803Z
UID:1228-1781632800-1781643600@troop2statenisland.com
SUMMARY:🇺🇸 Flag Retirement Ceremony
DESCRIPTION:Join Troop 2 for a respectful and meaningful Flag Retirement Ceremony as we honor the American flag and all it represents. This solemn event teaches scouts the importance of flag etiquette and provides an opportunity to retire worn or damaged U.S. flags with dignity. \n\n\n\n🔥 The ceremony will follow official flag retirement protocol\, including proper folding\, salutes\, and respectful disposal by fire. \n\n\n\n🎖️ Scouts will take active roles in the ceremony. This is an excellent opportunity to reflect on patriotism\, respect\, and service. \n\n\n\n👨‍👩‍👦 Families are welcome to attend and participate in honoring our nation’s flag. \n\n\n\n📦 Do you have a worn U.S. flag to retire? Bring it with you or drop it off in advance.
URL:https://troop2statenisland.com/event/%f0%9f%87%ba%f0%9f%87%b8-flag-retirement-ceremony/
LOCATION:Immanuel Union Church\, 693 Jewett Ave\, Staten Island\, New York\, 10314
ORGANIZER;CN="Scoutmaster Joe Nerone":MAILTO:ukj518@gmail.com
END:VEVENT
END:VCALENDAR