BEGIN:VCALENDAR
VERSION:2.0
PRODID:-//Troop 2 Staten Island - ECPv6.15.20//NONSGML v1.0//EN
CALSCALE:GREGORIAN
METHOD:PUBLISH
X-ORIGINAL-URL:https://troop2statenisland.com
X-WR-CALDESC:Events for Troop 2 Staten Island
REFRESH-INTERVAL;VALUE=DURATION:PT1H
X-Robots-Tag:noindex
X-PUBLISHED-TTL:PT1H
BEGIN:VTIMEZONE
TZID:America/New_York
BEGIN:DAYLIGHT
TZOFFSETFROM:-0500
TZOFFSETTO:-0400
TZNAME:EDT
DTSTART:20250309T070000
END:DAYLIGHT
BEGIN:STANDARD
TZOFFSETFROM:-0400
TZOFFSETTO:-0500
TZNAME:EST
DTSTART:20251102T060000
END:STANDARD
BEGIN:DAYLIGHT
TZOFFSETFROM:-0500
TZOFFSETTO:-0400
TZNAME:EDT
DTSTART:20260308T070000
END:DAYLIGHT
BEGIN:STANDARD
TZOFFSETFROM:-0400
TZOFFSETTO:-0500
TZNAME:EST
DTSTART:20261101T060000
END:STANDARD
BEGIN:DAYLIGHT
TZOFFSETFROM:-0500
TZOFFSETTO:-0400
TZNAME:EDT
DTSTART:20270314T070000
END:DAYLIGHT
BEGIN:STANDARD
TZOFFSETFROM:-0400
TZOFFSETTO:-0500
TZNAME:EST
DTSTART:20271107T060000
END:STANDARD
END:VTIMEZONE
BEGIN:VEVENT
DTSTART;TZID=America/New_York:20260519T153000
DTEND;TZID=America/New_York:20260519T180000
DTSTAMP:20260423T140031
CREATED:20260326T161148Z
LAST-MODIFIED:20260326T161451Z
UID:1893-1779204600-1779213600@troop2statenisland.com
SUMMARY:Flag Placement at St. Peter’s Cemetery 🇺🇸
DESCRIPTION:Troop 2 will meet at St. Peter’s Cemetery to place flags on the graves of deceased veterans. This is an important service activity to honor those who served our country. Full uniform is expected. Additional details will follow.
URL:https://troop2statenisland.com/event/flag-placement-at-st-peters-cemetery-%f0%9f%87%ba%f0%9f%87%b8/
LOCATION:St. Peter’s Cemetery\, 52 Tyler Ave.\, Staten Island\, New York\, 10310\, United States
ORGANIZER;CN="Scoutmaster Joe Nerone":MAILTO:ukj518@gmail.com
END:VEVENT
BEGIN:VEVENT
DTSTART;TZID=America/New_York:20260519T193000
DTEND;TZID=America/New_York:20260519T210000
DTSTAMP:20260423T140031
CREATED:20250711T131340Z
LAST-MODIFIED:20250711T131340Z
UID:1201-1779219000-1779224400@troop2statenisland.com
SUMMARY:🧭 Troop 2 General Meeting
DESCRIPTION:📋Weekly scout meeting covering planning\, activities\, and troop updates.
URL:https://troop2statenisland.com/event/%f0%9f%a7%ad-troop-2-general-meeting-17-14/
LOCATION:Immanuel Union Church\, 693 Jewett Ave\, Staten Island\, New York\, 10314
ORGANIZER;CN="Scoutmaster Joe Nerone":MAILTO:ukj518@gmail.com
END:VEVENT
END:VCALENDAR