BEGIN:VCALENDAR
VERSION:2.0
PRODID:-//Troop 2 Staten Island - ECPv6.15.20//NONSGML v1.0//EN
CALSCALE:GREGORIAN
METHOD:PUBLISH
X-ORIGINAL-URL:https://troop2statenisland.com
X-WR-CALDESC:Events for Troop 2 Staten Island
REFRESH-INTERVAL;VALUE=DURATION:PT1H
X-Robots-Tag:noindex
X-PUBLISHED-TTL:PT1H
BEGIN:VTIMEZONE
TZID:America/New_York
BEGIN:DAYLIGHT
TZOFFSETFROM:-0500
TZOFFSETTO:-0400
TZNAME:EDT
DTSTART:20250309T070000
END:DAYLIGHT
BEGIN:STANDARD
TZOFFSETFROM:-0400
TZOFFSETTO:-0500
TZNAME:EST
DTSTART:20251102T060000
END:STANDARD
BEGIN:DAYLIGHT
TZOFFSETFROM:-0500
TZOFFSETTO:-0400
TZNAME:EDT
DTSTART:20260308T070000
END:DAYLIGHT
BEGIN:STANDARD
TZOFFSETFROM:-0400
TZOFFSETTO:-0500
TZNAME:EST
DTSTART:20261101T060000
END:STANDARD
BEGIN:DAYLIGHT
TZOFFSETFROM:-0500
TZOFFSETTO:-0400
TZNAME:EDT
DTSTART:20270314T070000
END:DAYLIGHT
BEGIN:STANDARD
TZOFFSETFROM:-0400
TZOFFSETTO:-0500
TZNAME:EST
DTSTART:20271107T060000
END:STANDARD
END:VTIMEZONE
BEGIN:VEVENT
DTSTART;TZID=America/New_York:20260407T000000
DTEND;TZID=America/New_York:20260407T235959
DTSTAMP:20260423T123259
CREATED:20260326T160641Z
LAST-MODIFIED:20260326T160642Z
UID:1889-1775520000-1775606399@troop2statenisland.com
SUMMARY:Shed Cleanup 🧹
DESCRIPTION:There will be no regular troop meeting on this date. Scouts and families are encouraged to come help clean out the troop shed. This is a great opportunity to support the troop and keep our equipment organized. Any amount of help is appreciated.
URL:https://troop2statenisland.com/event/shed-cleanup-%f0%9f%a7%b9/
LOCATION:Immanuel Union Church\, 693 Jewett Ave\, Staten Island\, New York\, 10314
ORGANIZER;CN="Scoutmaster Joe Nerone":MAILTO:ukj518@gmail.com
END:VEVENT
END:VCALENDAR