BEGIN:VCALENDAR
VERSION:2.0
PRODID:-//Troop 2 Staten Island - ECPv6.15.20//NONSGML v1.0//EN
CALSCALE:GREGORIAN
METHOD:PUBLISH
X-ORIGINAL-URL:https://troop2statenisland.com
X-WR-CALDESC:Events for Troop 2 Staten Island
REFRESH-INTERVAL;VALUE=DURATION:PT1H
X-Robots-Tag:noindex
X-PUBLISHED-TTL:PT1H
BEGIN:VTIMEZONE
TZID:America/New_York
BEGIN:DAYLIGHT
TZOFFSETFROM:-0500
TZOFFSETTO:-0400
TZNAME:EDT
DTSTART:20250309T070000
END:DAYLIGHT
BEGIN:STANDARD
TZOFFSETFROM:-0400
TZOFFSETTO:-0500
TZNAME:EST
DTSTART:20251102T060000
END:STANDARD
BEGIN:DAYLIGHT
TZOFFSETFROM:-0500
TZOFFSETTO:-0400
TZNAME:EDT
DTSTART:20260308T070000
END:DAYLIGHT
BEGIN:STANDARD
TZOFFSETFROM:-0400
TZOFFSETTO:-0500
TZNAME:EST
DTSTART:20261101T060000
END:STANDARD
BEGIN:DAYLIGHT
TZOFFSETFROM:-0500
TZOFFSETTO:-0400
TZNAME:EDT
DTSTART:20270314T070000
END:DAYLIGHT
BEGIN:STANDARD
TZOFFSETFROM:-0400
TZOFFSETTO:-0500
TZNAME:EST
DTSTART:20271107T060000
END:STANDARD
END:VTIMEZONE
BEGIN:VEVENT
DTSTART;TZID=America/New_York:20260320T173000
DTEND;TZID=America/New_York:20260322T100000
DTSTAMP:20260423T135248
CREATED:20250711T171058Z
LAST-MODIFIED:20250711T171100Z
UID:1223-1774027800-1774173600@troop2statenisland.com
SUMMARY:⚜️ Scout Skills Weekend – Winnebago Scout Reservation
DESCRIPTION:Join Troop 2 for our annual Scout Skills Weekend at Winnebago Scout Reservation! This hands-on campout is designed to sharpen your outdoor skills and patrol teamwork. \n\n\n\n🔥 Activities include: \n\n\n\n\nFire building\n\n\n\nKnot tying\n\n\n\nFirst aid challenges\n\n\n\nOrienteering\n\n\n\nPatrol-based competitions\n\n\n\nCamp cooking and shelter building\n\n\n\n\n🎯 This trip is a great opportunity for scouts to work on rank requirements\, build confidence\, and develop leadership in a fun\, outdoor setting. \n\n\n\n🧢 Scouts must bring full gear and dress for spring camping — including layered clothing\, rain protection\, and closed-toe shoes. A packing list will be distributed before the event. \n\n\n\n🚗 Parent drivers may be needed for transportation to and from camp.
URL:https://troop2statenisland.com/event/%e2%9a%9c%ef%b8%8f-scout-skills-weekend-winnebago-scout-reservation/
LOCATION:New York
ORGANIZER;CN="Scoutmaster Joe Nerone":MAILTO:ukj518@gmail.com
END:VEVENT
END:VCALENDAR