BEGIN:VCALENDAR
VERSION:2.0
PRODID:-//Troop 2 Staten Island - ECPv6.15.20//NONSGML v1.0//EN
CALSCALE:GREGORIAN
METHOD:PUBLISH
X-ORIGINAL-URL:https://troop2statenisland.com
X-WR-CALDESC:Events for Troop 2 Staten Island
REFRESH-INTERVAL;VALUE=DURATION:PT1H
X-Robots-Tag:noindex
X-PUBLISHED-TTL:PT1H
BEGIN:VTIMEZONE
TZID:America/New_York
BEGIN:DAYLIGHT
TZOFFSETFROM:-0500
TZOFFSETTO:-0400
TZNAME:EDT
DTSTART:20240310T070000
END:DAYLIGHT
BEGIN:STANDARD
TZOFFSETFROM:-0400
TZOFFSETTO:-0500
TZNAME:EST
DTSTART:20241103T060000
END:STANDARD
BEGIN:DAYLIGHT
TZOFFSETFROM:-0500
TZOFFSETTO:-0400
TZNAME:EDT
DTSTART:20250309T070000
END:DAYLIGHT
BEGIN:STANDARD
TZOFFSETFROM:-0400
TZOFFSETTO:-0500
TZNAME:EST
DTSTART:20251102T060000
END:STANDARD
BEGIN:DAYLIGHT
TZOFFSETFROM:-0500
TZOFFSETTO:-0400
TZNAME:EDT
DTSTART:20260308T070000
END:DAYLIGHT
BEGIN:STANDARD
TZOFFSETFROM:-0400
TZOFFSETTO:-0500
TZNAME:EST
DTSTART:20261101T060000
END:STANDARD
END:VTIMEZONE
BEGIN:VEVENT
DTSTART;TZID=America/New_York:20251030T180000
DTEND;TZID=America/New_York:20251030T200000
DTSTAMP:20260423T184359
CREATED:20251001T154954Z
LAST-MODIFIED:20251001T154956Z
UID:1415-1761847200-1761854400@troop2statenisland.com
SUMMARY:🐾 Cub Scouts Halloween Party & Pack Meeting 🎃
DESCRIPTION:Wear your costume and join us for our Cub Scouts Halloween celebration and Pack Meeting. Fun activities and spooky games!
URL:https://troop2statenisland.com/event/%f0%9f%90%be-cub-scouts-halloween-party-pack-meeting-%f0%9f%8e%83/
LOCATION:Immanuel Union Church\, 693 Jewett Ave\, Staten Island\, New York\, 10314
ORGANIZER;CN="Brian Levinsky":MAILTO:pack2.GNYC@gmail.com
END:VEVENT
END:VCALENDAR